Workbook

Sheet Списак уч. по учионицама
A1: Домаћин: ОШ "Бановић Страхиња"
A5: ГРАДСКО ТАКМИЧЕЊЕ УЧЕНИКА VI, VII и VIII разреда
A6: ОСНОВНИХ ШКОЛА БЕОГРАДА ИЗ ФИЗИКЕ
A7: 14. 3. 2020.
A9: РЕДНИ | B9: ШИФРА | C9: ИМЕ И ПРЕЗИМЕ | D9: РАЗРЕД | E9: ПОСЕБНО ОДЕЉЕЊЕ | F9: ШКОЛА | G9: ОПШТИНА | H9: ПРЕДМЕТНИ | I9: БРОЈ | J9: НАПОМЕНА | K9: БРОЈ УЧИОНИЦЕ | L9: РАДНО МЕСТО
A10: БРОЈ | C10: УЧЕНИКА | H10: НАСТАВНИК | I10: БОДОВА
A12: 1 | C12: Тодорa Јанковић | D12: 6 | E12: НЕ | F12: Вук Караџић | G12: Стари град | H12: Драган Јовановић | K12: 1 | L12: 1
A13: 22 | C13: Огњен Ницуловић | D13: 6 | E13: НЕ | F13: И. Бирчанин | G13: Земун | H13: Драгана Михајловић | K13: 1 | L13: 3
A14: 43 | C14: Ирина Тодоров | D14: 6 | E14: НЕ | F14: М.Ђ.Милићевић | G14: Вождовац | H14: Снежана Дујаковић | K14: 1 | L14: 5
A15: 64 | C15: Ђурђа Петровић | D15: 6 | E15: НЕ | F15: 1300 каплара | G15: Звездара | H15: Снежана Човић | K15: 1 | L15: 8
A16: 85 | C16: Тамара Стошић | D16: 6 | E16: НЕ | F16: Душко Радовић | G16: Нови Београд | H16: Маја Мутић | K16: 1 | L16: 10
A17: 106 | C17: Ана Станковић | D17: 6 | E17: НЕ | F17: Павле Савић | G17: Звездара | H17: Драгослава Јекић | K17: 1 | L17: 12
A18: 127 | C18: Нађа Митровић | D18: 6 | E18: НЕ | F18: Бранко Ћопић | G18: Раковица | H18: Југослав Секулић | K18: 1 | L18: 13
A19: 148 | C19: Тара Лукић | D19: 6 | E19: НЕ | F19: Филип Кљајић Фића | G19: Чукарица | H19: Јован Лазић | K19: 1 | L19: 15
A20: 169 | C20: Теодора Шева | D20: 6 | E20: НЕ | F20: Лаза Костић | G20: Нови Београд | H20: Ђорђе Ћипаризовић | K20: 1 | L20: 17
A21: 187 | C21: Иван Нинчић | D21: 6 | E21: НЕ | F21: Јелена Ћетковић | G21: Звездара | H21: Весна Тодоровић Ристић | K21: 1 | L21: 20
A22: 204 | C22: Михајло Кукић | D22: 6 | E22: НЕ | F22: Браћа Барух | G22: Стари град | H22: Милица Мирковић | K22: 1 | L22: 22
A23: 219 | C23: Наталија Живковић | D23: 6 | E23: НЕ | F23: Јелена Ћетковић | G23: Звездара | H23: Весна Тодоровић Ристић | K23: 1 | L23: 24
... A41: 583 | C41: Невена Станишић | D41: 8 | E41: НЕ | F41: Ћирило и Методије | G41: Звездара | H41: Бранимир Стојиљковић | K41: 1 | L41: 28
A42: РЕДНИ | B42: ШИФРА | C42: ИМЕ И ПРЕЗИМЕ | D42: РАЗРЕД | E42: ПОСЕБНО ОДЕЉЕЊЕ | F42: ШКОЛА | G42: ОПШТИНА | H42: ПРЕДМЕТНИ | I42: БРОЈ | J42: НАПОМЕНА | K42: БРОЈ УЧИОНИЦЕ | L42: РАДНО МЕСТО
A43: БРОЈ | C43: УЧЕНИКА | H43: НАСТАВНИК | I43: БОДОВА
A45: 2 | C45: Никола Манојловић | D45: 6 | E45: НЕ | F45: Вук Караџић | G45: Стари град | H45: Драган Јовановић | K45: 2 | L45: 1
A46: 23 | C46: Гаврило Младеновић | D46: 6 | E46: НЕ | F46: Петар Кочић | G46: Земун | H46: Ива Вулић | K46: 2 | L46: 3
A47: 44 | C47: Војин Ђорђевић | D47: 6 | E47: НЕ | F47: Ђура Даничић | G47: Вождовац | H47: Јелена Ристановић | K47: 2 | L47: 5
A48: 65 | C48: Лука Денић | D48: 6 | E48: НЕ | F48: Јосиф Панчић | G48: Чукарица | H48: Александра Обрадовић | K48: 2 | L48: 8
A49: 86 | C49: Ања Поповић | D49: 6 | E49: НЕ | F49: Иван Гундулић | G49: Нови Београд | H49: Драгица Момчиловић | K49: 2 | L49: 10
A50: 107 | C50: Теодора Дацић | D50: 6 | E50: НЕ | F50: Доситеј Обрадовић | G50: Чукарица | H50: Зорица Теохаревић | K50: 2 | L50: 12
A51: 128 | C51: Немања Хаџи- Ђикић | D51: 6 | E51: НЕ | F51: ОШ „Раде Драинац“ | G51: Палилула | H51: Марија Јовановић | K51: 2 | L51: 13
A52: 149 | C52: Милан Ђурђевић | D52: 6 | E52: НЕ | F52: „Иво Андрић“ | G52: Раковица | H52: Љиљана Костић | K52: 2 | L52: 15
A53: 170 | C53: Јелена Максимовић | D53: 6 | E53: НЕ | F53: Лаза Костић | G53: Нови Београд | H53: Ђорђе Ћипаризовић | K53: 2 | L53: 17
A54: 188 | C54: Александар В. Весић | D54: 6 | E54: НЕ | F54: Доситеј Обрадовић | G54: Чукарица | H54: Зорица Теохаревић | K54: 2 | L54: 20
A55: 205 | C55: Анђела Хајдер | D55: 6 | E55: НЕ | F55: Борислав Пекић | G55: Нови Београд | H55: Снежана Кутлашић | K55: 2 | L55: 22
A56: 220 | C56: Данило Васојевић | D56: 6 | E56: НЕ | F56: Уједињене Нације | G56: Чукарица | H56: Ана Марјановић | K56: 2 | L56: 24
... A74: 584 | C74: Наташа Ковачевић | D74: 8 | E74: НЕ | F74: Мика Антић | G74: Чукарица | H74: Наташа Мићевић | K74: 2 | L74: 28
A75: РЕДНИ | B75: ШИФРА | C75: ИМЕ И ПРЕЗИМЕ | D75: РАЗРЕД | E75: ПОСЕБНО ОДЕЉЕЊЕ | F75: ШКОЛА | G75: ОПШТИНА | H75: ПРЕДМЕТНИ | I75: БРОЈ | J75: НАПОМЕНА | K75: БРОЈ УЧИОНИЦЕ | L75: РАДНО МЕСТО
A76: БРОЈ | C76: УЧЕНИКА | H76: НАСТАВНИК | I76: БОДОВА
A78: 3 | C78: Алексеј Стевановић | D78: 6 | E78: НЕ | F78: Краљ Петар Први | G78: Стари град | H78: Станислав Миловановић | K78: 3 | L78: 1
A79: 24 | C79: Павле Неговановић | D79: 6 | E79: НЕ | F79: Момчило Живојиновић | G79: Младеновац | H79: Биљана Цесарац | K79: 3 | L79: 3
A80: 45 | C80: Нина Орландић | D80: 6 | E80: НЕ | F80: ОШ "Свети Сава" | G80: Врачар | H80: Наташа Станић | K80: 3 | L80: 5
A81: 66 | C81: Предраг Марковић | D81: 6 | E81: НЕ | F81: Светозар Марковић | G81: Врачар | H81: Снежана Стојановић Јовановић | K81: 3 | L81: 8
A82: 87 | C82: Ана Марић | D82: 6 | E82: НЕ | F82: Јован Дучић | G82: Нови Београд | H82: Анђа Поповић | K82: 3 | L82: 10
A83: 108 | C83: Огњен Радојичић | D83: 6 | E83: НЕ | F83: Јосиф Панчић | G83: Чукарица | H83: Александра Обрадовић | K83: 3 | L83: 12
A84: 129 | C84: Ива Јандрлић | D84: 6 | E84: НЕ | F84: Влада Аксентијевић | G84: Палилула | H84: Јелена Вучетић | K84: 3 | L84: 13
A85: 150 | C85: Урош Туркуљ | D85: 6 | E85: НЕ | F85: ОШ „Јован Ристић“ | G85: Палилула | H85: Босиљка Живановић | K85: 3 | L85: 15
A86: 171 | C86: Невена Стефановић | D86: 6 | E86: НЕ | F86: Младост | G86: Нови Београд | H86: Снежана Ивановић | K86: 3 | L86: 17
A87: 189 | C87: Марија Митровић | D87: 6 | E87: НЕ | F87: Филип Филиповић | G87: Вождовац | H87: Нада Јојић | K87: 3 | L87: 20
A88: 206 | C88: Марко Миловановић | D88: 6 | E88: НЕ | F88: Драган Лукић | G88: Нови Београд | H88: Јелена Латас | K88: 3 | L88: 22
A89: 221 | C89: Лара Јовановић | D89: 6 | E89: НЕ | F89: Посавски партизани | G89: Обреновац | H89: Маја Димковић | K89: 3 | L89: 24
... A107: 585 | C107: Јана Ломић | D107: 8 | E107: НЕ | F107: 20. октобар | G107: Нови Београд | H107: Маријета Ђаковић | K107: 3 | L107: 28
A108: РЕДНИ | B108: ШИФРА | C108: ИМЕ И ПРЕЗИМЕ | D108: РАЗРЕД | E108: ПОСЕБНО ОДЕЉЕЊЕ | F108: ШКОЛА | G108: ОПШТИНА | H108: ПРЕДМЕТНИ | I108: БРОЈ | J108: НАПОМЕНА | K108: БРОЈ УЧИОНИЦЕ | L108: РАДНО МЕСТО
A109: БРОЈ | C109: УЧЕНИКА | H109: НАСТАВНИК | I109: БОДОВА
A111: 4 | C111: Марко Кукић | D111: 6 | E111: НЕ | F111: Краљ Петар Први | G111: Стари град | H111: Станислав Миловановић | K111: 4 | L111: 2
A112: 25 | C112: Марија Радовановић | D112: 6 | E112: НЕ | F112: Момчило Живојиновић | G112: Младеновац | H112: Биљана Цесарац | K112: 4 | L112: 6
A113: 46 | C113: Слободан Јањић | D113: 6 | E113: НЕ | F113: Франце Прешерн | G113: Раковица | H113: Јелисавета Хрњаковић | K113: 4 | L113: 9
A114: 67 | C114: Јован Кепић | D114: 6 | E114: НЕ | F114: Браћа Барух | G114: Стари град | H114: Милица Мирковић | K114: 4 | L114: 14
A115: 88 | C115: Јована Савковић | D115: 6 | E115: НЕ | F115: Кнегиња Милица | G115: Нови Београд | H115: Ана Манготић | K115: 4 | L115: 18
A116: 109 | C116: Марија Тошић | D116: 6 | E116: НЕ | F116: Љуба Ненадовић | G116: Чукарица | H116: Јасмина Кековић | K116: 4 | L116: 21
A117: 130 | C117: Гаврило Николић | D117: 6 | E117: НЕ | F117: ОШ „Старина Новак“ | G117: Палилула | H117: Ивана Симеуновић | K117: 4 | L117: 26
A118: 151 | C118: Ивор Кварантан | D118: 6 | E118: НЕ | F118: Марко Орешковић | G118: Нови Београд | H118: Игор Димитријевић | K118: 4 | L118: 30
A119: 281 | C119: Нина Богдановић | D119: 7 | E119: НЕ | F119: Радоје Домановић | G119: Нови Београд | H119: Ранка Рајковић | K119: 4 | L119: 1
A120: 302 | C120: Софија Чебашек | D120: 7 | E120: ДА | F120: Математичка гимназија | G120: Београд | H120: Вишња Јовановић | K120: 4 | L120: 3
A121: 323 | C121: Марко Саковић | D121: 7 | E121: НЕ | F121: Васа Пелагић | G121: Палилула | H121: Љиљана Пајовић Јовановић | K121: 4 | L121: 5
A122: 344 | C122: Урош Бабић | D122: 7 | E122: НЕ | F122: Васа Чарапић | G122: Вождовац | H122: Светлана Јока | K122: 4 | L122: 8
... A140: 586 | C140: Љиљана Коњевић | D140: 8 | E140: НЕ | F140: Стефан Дечански | G140: Чукарица | H140: Наташа Костић | K140: 4 | L140: 28
A141: РЕДНИ | B141: ШИФРА | C141: ИМЕ И ПРЕЗИМЕ | D141: РАЗРЕД | E141: ПОСЕБНО ОДЕЉЕЊЕ | F141: ШКОЛА | G141: ОПШТИНА | H141: ПРЕДМЕТНИ | I141: БРОЈ | J141: НАПОМЕНА | K141: БРОЈ УЧИОНИЦЕ | L141: РАДНО МЕСТО
A142: БРОЈ | C142: УЧЕНИКА | H142: НАСТАВНИК | I142: БОДОВА
A144: 5 | C144: Вукашин Сокић | D144: 6 | E144: НЕ | F144: ОШ "Јефимија" | G144: Обреновац | H144: Славица Вукосављевић | K144: 5 | L144: 1
A145: 26 | C145: Сава Угриновић | D145: 6 | E145: НЕ | F145: Момчило Живојиновић | G145: Младеновац | H145: Биљана Цесарац | K145: 5 | L145: 3
A146: 47 | C146: Душан Стаменковић | D146: 6 | E146: НЕ | F146: „Иво Андрић“ | G146: Раковица | H146: Љиљана Костић | K146: 5 | L146: 5
A147: 68 | C147: Милица Анђелковић | D147: 6 | E147: НЕ | F147: Момчило Живојиновић | G147: Младеновац | H147: Биљана Цесарац | K147: 5 | L147: 8
A148: 89 | C148: Владан Милићевић | D148: 6 | E148: НЕ | F148: Краљ Александар Први | G148: Нови Београд | H148: Биљана Милошевић | K148: 5 | L148: 10
A149: 110 | C149: Александар Николић | D149: 6 | E149: НЕ | F149: Милош Црњански | G149: Чукарица | H149: Ката Вулетић | K149: 5 | L149: 12
A150: 131 | C150: Сергеј Костић | D150: 6 | E150: НЕ | F150: Дринка Павловић | G150: Стари град | H150: Ивана Томић | K150: 5 | L150: 13
A151: 152 | C151: Никола Најић | D151: 6 | E151: НЕ | F151: Лазар Саватић | G151: Земун | H151: Весна Поповић | K151: 5 | L151: 15
A152: 172 | C152: Павле Станковић | D152: 6 | E152: НЕ | F152: Надежда Петровић | G152: Нови Београд | H152: Александра Стефановић | K152: 5 | L152: 17
A153: 190 | C153: Вељко Бојновић | D153: 6 | E153: НЕ | F153: Доситеј Обрадовић | G153: Вождовац | H153: Јасна Цветковић | K153: 5 | L153: 20
A154: 207 | C154: Василије Крстић | D154: 6 | E154: НЕ | F154: Драган Лукић | G154: Нови Београд | H154: Јелена Латас | K154: 5 | L154: 22
A155: 222 | C155: Милан Петровић | D155: 6 | E155: НЕ | F155: Кнегиња Милица | G155: Нови Београд | H155: Даница Петровић | K155: 5 | L155: 24
... A173: 587 | C173: Душан Илинчић | D173: 8 | E173: НЕ | F173: Петар Кочић | G173: Земун | H173: Ива Вулић | K173: 5 | L173: 28
A174: РЕДНИ | B174: ШИФРА | C174: ИМЕ И ПРЕЗИМЕ | D174: РАЗРЕД | E174: ПОСЕБНО ОДЕЉЕЊЕ | F174: ШКОЛА | G174: ОПШТИНА | H174: ПРЕДМЕТНИ | I174: БРОЈ | J174: НАПОМЕНА | K174: БРОЈ УЧИОНИЦЕ | L174: РАДНО МЕСТО
A175: БРОЈ | C175: УЧЕНИКА | H175: НАСТАВНИК | I175: БОДОВА
A177: 6 | C177: Стефан Црномарковић | D177: 6 | E177: НЕ | F177: 14.октобар | G177: Барич | H177: Соња Дубајић-Ситарица | K177: 6 | L177: 1
A178: 27 | C178: Неда Петровић | D178: 6 | E178: НЕ | F178: Момчило Живојиновић | G178: Младеновац | H178: Биљана Цесарац | K178: 6 | L178: 3
A179: 48 | C179: Новак Јанкуцић | D179: 6 | E179: НЕ | F179: „Никола Тесла“ | G179: Раковица | H179: Весна Манић | K179: 6 | L179: 5
A180: 69 | C180: Матеј Вуканић | D180: 6 | E180: НЕ | F180: Ћилило и Методије | G180: Звездара | H180: Бранимир Стојиљковић | K180: 6 | L180: 8
A181: 90 | C181: Инга Жица | D181: 6 | E181: НЕ | F181: Краљ Александар Први | G181: Нови Београд | H181: Биљана Милошевић | K181: 6 | L181: 10
A182: 111 | C182: Маша Куркић | D182: 6 | E182: НЕ | F182: Уједињене Нације | G182: Чукарица | H182: Јована Мишић | K182: 6 | L182: 12
A183: 132 | C183: Андреј Терзић | D183: 6 | E183: НЕ | F183: Ратко Митровић | G183: Нови Београд | H183: Зоран Дивац | K183: 6 | L183: 13
A184: 153 | C184: Лукас Петролекас | D184: 6 | E184: НЕ | F184: Вељко Дугошевић | G184: Звездара | H184: Зоран Јовичић Снежана Човић | K184: 6 | L184: 15
A185: 173 | C185: Милош Мандић | D185: 6 | E185: НЕ | F185: Бранко Радичевић | G185: Нови Београд | H185: Зоран Алексић | K185: 6 | L185: 17
A186: 191 | C186: Марко Орлић | D186: 6 | E186: НЕ | F186: Владислав Рибникар | G186: Врачар | H186: Данијела Савић | K186: 6 | L186: 20
A187: 208 | C187: Ђурђа Јаковљевић | D187: 6 | E187: НЕ | F187: Радоје Домановић | G187: Нови Београд | H187: Ранка Рајковић | K187: 6 | L187: 22
A188: 223 | C188: Николина Ранковић | D188: 6 | E188: НЕ | F188: Г. Принцип | G188: Земун | H188: Љиљана Милошевић | K188: 6 | L188: 24
... A206: 588 | C206: Матеја Ђинђић | D206: 8 | E206: НЕ | F206: Павле Савић | G206: Звездара | H206: Ивана Јоновић | K206: 6 | L206: 28
A207: РЕДНИ | B207: ШИФРА | C207: ИМЕ И ПРЕЗИМЕ | D207: РАЗРЕД | E207: ПОСЕБНО ОДЕЉЕЊЕ | F207: ШКОЛА | G207: ОПШТИНА | H207: ПРЕДМЕТНИ | I207: БРОЈ | J207: НАПОМЕНА | K207: БРОЈ УЧИОНИЦЕ | L207: РАДНО МЕСТО
A208: БРОЈ | C208: УЧЕНИКА | H208: НАСТАВНИК | I208: БОДОВА
A210: 7 | C210: Максим Шошкић | D210: 6 | E210: НЕ | F210: Драган Лукић | G210: Нови Београд | H210: Јелена Латас | K210: 7 | L210: 1
A211: 28 | C211: Дамјан Граовац | D211: 6 | E211: НЕ | F211: Деспот Стефан Лазаревић | G211: Звездара | H211: Тамара Шево | K211: 7 | L211: 3
A212: 49 | C212: Елена Симић | D212: 6 | E212: НЕ | F212: „Бранко Ћопић“ | G212: Раковица | H212: Југослав Секулић | K212: 7 | L212: 5
A213: 70 | C213: Марко Ковачевић | D213: 6 | E213: НЕ | F213: Мика Антић | G213: Чукарица | H213: Звездана Пашајлић | K213: 7 | L213: 8
...

Sheet улазнице  
A1: Име и презиме | B1: Разред | C1: Школа | D1: Учионица | E1: Радно место | G1: Име и презиме | H1: Разред | I1: Школа | J1: Учионица | K1: Радно место
A2: ='Списак уч. по учионицама'!C12 -> Тодорa Јанковић | B2: ='Списак уч. по учионицама'!D12 -> 6 | C2: ='Списак уч. по учионицама'!F12 -> Вук Караџић | D2: ='Списак уч. по учионицама'!K12 -> 1 | E2: ='Списак уч. по учионицама'!L12 -> 1 | G2: ='Списак уч. по учионицама'!C13 -> Огњен Ницуловић | H2: ='Списак уч. по учионицама'!D13 -> 6 | I2: ='Списак уч. по учионицама'!F13 -> И. Бирчанин | J2: ='Списак уч. по учионицама'!K13 -> 1 | K2: ='Списак уч. по учионицама'!L13 -> 3
A3: Име и презиме | B3: Разред | C3: Школа | D3: Учионица | E3: Радно место | G3: Име и презиме | H3: Разред | I3: Школа | J3: Учионица | K3: Радно место
A4: ='Списак уч. по учионицама'!C14 -> Ирина Тодоров | B4: ='Списак уч. по учионицама'!D14 -> 6 | C4: ='Списак уч. по учионицама'!F14 -> М.Ђ.Милићевић | D4: ='Списак уч. по учионицама'!K14 -> 1 | E4: ='Списак уч. по учионицама'!L14 -> 5 | G4: ='Списак уч. по учионицама'!C15 -> Ђурђа Петровић | H4: ='Списак уч. по учионицама'!D15 -> 6 | I4: ='Списак уч. по учионицама'!F15 -> 1300 каплара | J4: ='Списак уч. по учионицама'!K15 -> 1 | K4: ='Списак уч. по учионицама'!L15 -> 8
A5: Име и презиме | B5: Разред | C5: Школа | D5: Учионица | E5: Радно место | G5: Име и презиме | H5: Разред | I5: Школа | J5: Учионица | K5: Радно место
A6: ='Списак уч. по учионицама'!C16 -> Тамара Стошић | B6: ='Списак уч. по учионицама'!D16 -> 6 | C6: ='Списак уч. по учионицама'!F16 -> Душко Радовић | D6: ='Списак уч. по учионицама'!K16 -> 1 | E6: ='Списак уч. по учионицама'!L16 -> 10 | G6: ='Списак уч. по учионицама'!C17 -> Ана Станковић | H6: ='Списак уч. по учионицама'!D17 -> 6 | I6: ='Списак уч. по учионицама'!F17 -> Павле Савић | J6: ='Списак уч. по учионицама'!K17 -> 1 | K6: ='Списак уч. по учионицама'!L17 -> 12
A7: Име и презиме | B7: Разред | C7: Школа | D7: Учионица | E7: Радно место | G7: Име и презиме | H7: Разред | I7: Школа | J7: Учионица | K7: Радно место
A8: ='Списак уч. по учионицама'!C18 -> Нађа Митровић | B8: ='Списак уч. по учионицама'!D18 -> 6 | C8: ='Списак уч. по учионицама'!F18 -> Бранко Ћопић | D8: ='Списак уч. по учионицама'!K18 -> 1 | E8: ='Списак уч. по учионицама'!L18 -> 13 | G8: ='Списак уч. по учионицама'!C19 -> Тара Лукић | H8: ='Списак уч. по учионицама'!D19 -> 6 | I8: ='Списак уч. по учионицама'!F19 -> Филип Кљајић Фића | J8: ='Списак уч. по учионицама'!K19 -> 1 | K8: ='Списак уч. по учионицама'!L19 -> 15
A9: Име и презиме | B9: Разред | C9: Школа | D9: Учионица | E9: Радно место | G9: Име и презиме | H9: Разред | I9: Школа | J9: Учионица | K9: Радно место
A10: ='Списак уч. по учионицама'!C20 -> Теодора Шева | B10: ='Списак уч. по учионицама'!D20 -> 6 | C10: ='Списак уч. по учионицама'!F20 -> Лаза Костић | D10: ='Списак уч. по учионицама'!K20 -> 1 | E10: ='Списак уч. по учионицама'!L20 -> 17 | G10: ='Списак уч. по учионицама'!C21 -> Иван Нинчић | H10: ='Списак уч. по учионицама'!D21 -> 6 | I10: ='Списак уч. по учионицама'!F21 -> Јелена Ћетковић | J10: ='Списак уч. по учионицама'!K21 -> 1 | K10: ='Списак уч. по учионицама'!L21 -> 20
A11: Име и презиме | B11: Разред | C11: Школа | D11: Учионица | E11: Радно место | G11: Име и презиме | H11: Разред | I11: Школа | J11: Учионица | K11: Радно место
A12: ='Списак уч. по учионицама'!C22 -> Михајло Кукић | B12: ='Списак уч. по учионицама'!D22 -> 6 | C12: ='Списак уч. по учионицама'!F22 -> Браћа Барух | D12: ='Списак уч. по учионицама'!K22 -> 1 | E12: ='Списак уч. по учионицама'!L22 -> 22 | G12: ='Списак уч. по учионицама'!C23 -> Наталија Живковић | H12: ='Списак уч. по учионицама'!D23 -> 6 | I12: ='Списак уч. по учионицама'!F23 -> Јелена Ћетковић | J12: ='Списак уч. по учионицама'!K23 -> 1 | K12: ='Списак уч. по учионицама'!L23 -> 24
A13: Име и презиме | B13: Разред | C13: Школа | D13: Учионица | E13: Радно место | G13: Име и презиме | H13: Разред | I13: Школа | J13: Учионица | K13: Радно место
A14: ='Списак уч. по учионицама'!C24 -> Милош Стевановић | B14: ='Списак уч. по учионицама'!D24 -> 6 | C14: ='Списак уч. по учионицама'!F24 -> „Франце Прешерн“ | D14: ='Списак уч. по учионицама'!K24 -> 1 | E14: ='Списак уч. по учионицама'!L24 -> 25 | G14: ='Списак уч. по учионицама'!C25 -> Ана Комлен | H14: ='Списак уч. по учионицама'!D25 -> 6 | I14: ='Списак уч. по учионицама'!F25 -> „Франце Прешерн“ | J14: ='Списак уч. по учионицама'!K25 -> 1 | K14: ='Списак уч. по учионицама'!L25 -> 27
A15: Име и презиме | B15: Разред | C15: Школа | D15: Учионица | E15: Радно место | G15: Име и презиме | H15: Разред | I15: Школа | J15: Учионица | K15: Радно место
A16: ='Списак уч. по учионицама'!C26 -> Реља Илић | B16: ='Списак уч. по учионицама'!D26 -> 6 | C16: ='Списак уч. по учионицама'!F26 -> Јосиф Панчић | D16: ='Списак уч. по учионицама'!K26 -> 1 | E16: ='Списак уч. по учионицама'!L26 -> 29 | G16: ='Списак уч. по учионицама'!C27 -> Богдан Црвеница | H16: ='Списак уч. по учионицама'!D27 -> 7 | I16: ='Списак уч. по учионицама'!F27 -> Ј. Миловановић | J16: ='Списак уч. по учионицама'!K27 -> 1 | K16: ='Списак уч. по учионицама'!L27 -> 2
A17: Име и презиме | B17: Разред | C17: Школа | D17: Учионица | E17: Радно место | G17: Име и презиме | H17: Разред | I17: Школа | J17: Учионица | K17: Радно место
A18: ='Списак уч. по учионицама'!C28 -> Јанко Поповић | B18: ='Списак уч. по учионицама'!D28 -> 7 | C18: ='Списак уч. по учионицама'!F28 -> Математичка гимназија | D18: ='Списак уч. по учионицама'!K28 -> 1 | E18: ='Списак уч. по учионицама'!L28 -> 6 | G18: ='Списак уч. по учионицама'!C29 -> Федор Вуксановић | H18: ='Списак уч. по учионицама'!D29 -> 7 | I18: ='Списак уч. по учионицама'!F29 -> Филип Филиповић | J18: ='Списак уч. по учионицама'!K29 -> 1 | K18: ='Списак уч. по учионицама'!L29 -> 9
A19: Име и презиме | B19: Разред | C19: Школа | D19: Учионица | E19: Радно место | G19: Име и презиме | H19: Разред | I19: Школа | J19: Учионица | K19: Радно место
A20: ='Списак уч. по учионицама'!C30 -> Анђелика Михаиловић | B20: ='Списак уч. по учионицама'!D30 -> 7 | C20: ='Списак уч. по учионицама'!F30 -> Математичка гимназија | D20: ='Списак уч. по учионицама'!K30 -> 1 | E20: ='Списак уч. по учионицама'!L30 -> 14 | G20: ='Списак уч. по учионицама'!C31 -> Лана Матић | H20: ='Списак уч. по учионицама'!D31 -> 7 | I20: ='Списак уч. по учионицама'!F31 -> Момчило Живојиновић | J20: ='Списак уч. по учионицама'!K31 -> 1 | K20: ='Списак уч. по учионицама'!L31 -> 18
A21: Име и презиме | B21: Разред | C21: Школа | D21: Учионица | E21: Радно место | G21: Име и презиме | H21: Разред | I21: Школа | J21: Учионица | K21: Радно место
A22: ='Списак уч. по учионицама'!C32 -> Тамара Димковић | B22: ='Списак уч. по учионицама'!D32 -> 7 | C22: ='Списак уч. по учионицама'!F32 -> Мика Антић | D22: ='Списак уч. по учионицама'!K32 -> 1 | E22: ='Списак уч. по учионицама'!L32 -> 21 | G22: ='Списак уч. по учионицама'!C33 -> Адријан Сарајлић | H22: ='Списак уч. по учионицама'!D33 -> 7 | I22: ='Списак уч. по учионицама'!F33 -> Стефан Немања | J22: ='Списак уч. по учионицама'!K33 -> 1 | K22: ='Списак уч. по учионицама'!L33 -> 26
A23: Име и презиме | B23: Разред | C23: Школа | D23: Учионица | E23: Радно место | G23: Име и презиме | H23: Разред | I23: Школа | J23: Учионица | K23: Радно место
A24: ='Списак уч. по учионицама'!C34 -> Никола Драгичевић | B24: ='Списак уч. по учионицама'!D34 -> 7 | C24: ='Списак уч. по учионицама'!F34 -> Вук Караџић | D24: ='Списак уч. по учионицама'!K34 -> 1 | E24: ='Списак уч. по учионицама'!L34 -> 30 | G24: ='Списак уч. по учионицама'!C35 -> Марко Марински | H24: ='Списак уч. по учионицама'!D35 -> 8 | I24: ='Списак уч. по учионицама'!F35 -> Вук Караџић | J24: ='Списак уч. по учионицама'!K35 -> 1 | K24: ='Списак уч. по учионицама'!L35 -> 4
A25: Име и презиме | B25: Разред | C25: Школа | D25: Учионица | E25: Радно место | G25: Име и презиме | H25: Разред | I25: Школа | J25: Учионица | K25: Радно место
A26: ='Списак уч. по учионицама'!C36 -> Марија Јулија Митровић | B26: ='Списак уч. по учионицама'!D36 -> 8 | C26: ='Списак уч. по учионицама'!F36 -> Светозар Марковић | D26: ='Списак уч. по учионицама'!K36 -> 1 | E26: ='Списак уч. по учионицама'!L36 -> 7 | G26: ='Списак уч. по учионицама'!C37 -> Тамара Марсенић | H26: ='Списак уч. по учионицама'!D37 -> 8 | I26: ='Списак уч. по учионицама'!F37 -> С. Маринковић | J26: ='Списак уч. по учионицама'!K37 -> 1 | K26: ='Списак уч. по учионицама'!L37 -> 11
A27: Име и презиме | B27: Разред | C27: Школа | D27: Учионица | E27: Радно место | G27: Име и презиме | H27: Разред | I27: Школа | J27: Учионица | K27: Радно место
A28: ='Списак уч. по учионицама'!C38 -> Јана Игњатовић | B28: ='Списак уч. по учионицама'!D38 -> 8 | C28: ='Списак уч. по учионицама'!F38 -> „Никола Тесла“ | D28: ='Списак уч. по учионицама'!K38 -> 1 | E28: ='Списак уч. по учионицама'!L38 -> 16 | G28: ='Списак уч. по учионицама'!C39 -> Ђорђе Ћургус | H28: ='Списак уч. по учионицама'!D39 -> 8 | I28: ='Списак уч. по учионицама'!F39 -> Светозар Марковић | J28: ='Списак уч. по учионицама'!K39 -> 1 | K28: ='Списак уч. по учионицама'!L39 -> 19
A29: Име и презиме | B29: Разред | C29: Школа | D29: Учионица | E29: Радно место | G29: Име и презиме | H29: Разред | I29: Школа | J29: Учионица | K29: Радно место
A30: ='Списак уч. по учионицама'!C40 -> Михајло Савић | B30: ='Списак уч. по учионицама'!D40 -> 8 | C30: ='Списак уч. по учионицама'!F40 -> Скадарлија | D30: ='Списак уч. по учионицама'!K40 -> 1 | E30: ='Списак уч. по учионицама'!L40 -> 23 | G30: ='Списак уч. по учионицама'!C41 -> Невена Станишић | H30: ='Списак уч. по учионицама'!D41 -> 8 | I30: ='Списак уч. по учионицама'!F41 -> Ћирило и Методије | J30: ='Списак уч. по учионицама'!K41 -> 1 | K30: ='Списак уч. по учионицама'!L41 -> 28
A31: Име и презиме | B31: Разред | C31: Школа | D31: Учионица | E31: Радно место | G31: Име и презиме | H31: Разред | I31: Школа | J31: Учионица | K31: Радно место
A32: ='Списак уч. по учионицама'!C45 -> Никола Манојловић | B32: ='Списак уч. по учионицама'!D45 -> 6 | C32: ='Списак уч. по учионицама'!F45 -> Вук Караџић | D32: ='Списак уч. по учионицама'!K45 -> 2 | E32: ='Списак уч. по учионицама'!L45 -> 1 | G32: ='Списак уч. по учионицама'!C46 -> Гаврило Младеновић | H32: ='Списак уч. по учионицама'!D46 -> 6 | I32: ='Списак уч. по учионицама'!F46 -> Петар Кочић | J32: ='Списак уч. по учионицама'!K46 -> 2 | K32: ='Списак уч. по учионицама'!L46 -> 3
A33: Име и презиме | B33: Разред | C33: Школа | D33: Учионица | E33: Радно место | G33: Име и презиме | H33: Разред | I33: Школа | J33: Учионица | K33: Радно место
A34: ='Списак уч. по учионицама'!C47 -> Војин Ђорђевић | B34: ='Списак уч. по учионицама'!D47 -> 6 | C34: ='Списак уч. по учионицама'!F47 -> Ђура Даничић | D34: ='Списак уч. по учионицама'!K47 -> 2 | E34: ='Списак уч. по учионицама'!L47 -> 5 | G34: ='Списак уч. по учионицама'!C48 -> Лука Денић | H34: ='Списак уч. по учионицама'!D48 -> 6 | I34: ='Списак уч. по учионицама'!F48 -> Јосиф Панчић | J34: ='Списак уч. по учионицама'!K48 -> 2 | K34: ='Списак уч. по учионицама'!L48 -> 8
A35: Име и презиме | B35: Разред | C35: Школа | D35: Учионица | E35: Радно место | G35: Име и презиме | H35: Разред | I35: Школа | J35: Учионица | K35: Радно место
A36: ='Списак уч. по учионицама'!C49 -> Ања Поповић | B36: ='Списак уч. по учионицама'!D49 -> 6 | C36: ='Списак уч. по учионицама'!F49 -> Иван Гундулић | D36: ='Списак уч. по учионицама'!K49 -> 2 | E36: ='Списак уч. по учионицама'!L49 -> 10 | G36: ='Списак уч. по учионицама'!C50 -> Теодора Дацић | H36: ='Списак уч. по учионицама'!D50 -> 6 | I36: ='Списак уч. по учионицама'!F50 -> Доситеј Обрадовић | J36: ='Списак уч. по учионицама'!K50 -> 2 | K36: ='Списак уч. по учионицама'!L50 -> 12
A37: Име и презиме | B37: Разред | C37: Школа | D37: Учионица | E37: Радно место | G37: Име и презиме | H37: Разред | I37: Школа | J37: Учионица | K37: Радно место
A38: ='Списак уч. по учионицама'!C51 -> Немања Хаџи- Ђикић | B38: ='Списак уч. по учионицама'!D51 -> 6 | C38: ='Списак уч. по учионицама'!F51 -> ОШ „Раде Драинац“ | D38: ='Списак уч. по учионицама'!K51 -> 2 | E38: ='Списак уч. по учионицама'!L51 -> 13 | G38: ='Списак уч. по учионицама'!C52 -> Милан Ђурђевић | H38: ='Списак уч. по учионицама'!D52 -> 6 | I38: ='Списак уч. по учионицама'!F52 -> „Иво Андрић“ | J38: ='Списак уч. по учионицама'!K52 -> 2 | K38: ='Списак уч. по учионицама'!L52 -> 15
A39: Име и презиме | B39: Разред | C39: Школа | D39: Учионица | E39: Радно место | G39: Име и презиме | H39: Разред | I39: Школа | J39: Учионица | K39: Радно место
A40: ='Списак уч. по учионицама'!C53 -> Јелена Максимовић | B40: ='Списак уч. по учионицама'!D53 -> 6 | C40: ='Списак уч. по учионицама'!F53 -> Лаза Костић | D40: ='Списак уч. по учионицама'!K53 -> 2 | E40: ='Списак уч. по учионицама'!L53 -> 17 | G40: ='Списак уч. по учионицама'!C54 -> Александар В. Весић | H40: ='Списак уч. по учионицама'!D54 -> 6 | I40: ='Списак уч. по учионицама'!F54 -> Доситеј Обрадовић | J40: ='Списак уч. по учионицама'!K54 -> 2 | K40: ='Списак уч. по учионицама'!L54 -> 20
A41: Име и презиме | B41: Разред | C41: Школа | D41: Учионица | E41: Радно место | G41: Име и презиме | H41: Разред | I41: Школа | J41: Учионица | K41: Радно место
A42: ='Списак уч. по учионицама'!C55 -> Анђела Хајдер | B42: ='Списак уч. по учионицама'!D55 -> 6 | C42: ='Списак уч. по учионицама'!F55 -> Борислав Пекић | D42: ='Списак уч. по учионицама'!K55 -> 2 | E42: ='Списак уч. по учионицама'!L55 -> 22 | G42: ='Списак уч. по учионицама'!C56 -> Данило Васојевић | H42: ='Списак уч. по учионицама'!D56 -> 6 | I42: ='Списак уч. по учионицама'!F56 -> Уједињене Нације | J42: ='Списак уч. по учионицама'!K56 -> 2 | K42: ='Списак уч. по учионицама'!L56 -> 24
A43: Име и презиме | B43: Разред | C43: Школа | D43: Учионица | E43: Радно место | G43: Име и презиме | H43: Разред | I43: Школа | J43: Учионица | K43: Радно место
A44: ='Списак уч. по учионицама'!C57 -> Стефан Александрић | B44: ='Списак уч. по учионицама'!D57 -> 6 | C44: ='Списак уч. по учионицама'!F57 -> „Ђура Јакшић“ | D44: ='Списак уч. по учионицама'!K57 -> 2 | E44: ='Списак уч. по учионицама'!L57 -> 25 | G44: ='Списак уч. по учионицама'!C58 -> Немања Несторовић | H44: ='Списак уч. по учионицама'!D58 -> 6 | I44: ='Списак уч. по учионицама'!F58 -> ОШ „Јован Ристић“ | J44: ='Списак уч. по учионицама'!K58 -> 2 | K44: ='Списак уч. по учионицама'!L58 -> 27
A45: Име и презиме | B45: Разред | C45: Школа | D45: Учионица | E45: Радно место | G45: Име и презиме | H45: Разред | I45: Школа | J45: Учионица | K45: Радно место
A46: ='Списак уч. по учионицама'!C59 -> Стефан Кокановић | B46: ='Списак уч. по учионицама'!D59 -> 6 | C46: ='Списак уч. по учионицама'!F59 -> ОШ "Јефимија" | D46: ='Списак уч. по учионицама'!K59 -> 2 | E46: ='Списак уч. по учионицама'!L59 -> 29 | G46: ='Списак уч. по учионицама'!C60 -> Соња Пивалица | H46: ='Списак уч. по учионицама'!D60 -> 7 | I46: ='Списак уч. по учионицама'!F60 -> 20. октобар | J46: ='Списак уч. по учионицама'!K60 -> 2 | K46: ='Списак уч. по учионицама'!L60 -> 2
A47: Име и презиме | B47: Разред | C47: Школа | D47: Учионица | E47: Радно место | G47: Име и презиме | H47: Разред | I47: Школа | J47: Учионица | K47: Радно место
A48: ='Списак уч. по учионицама'!C61 -> Марија Михајловић | B48: ='Списак уч. по учионицама'!D61 -> 7 | C48: ='Списак уч. по учионицама'!F61 -> Математичка гимназија | D48: ='Списак уч. по учионицама'!K61 -> 2 | E48: ='Списак уч. по учионицама'!L61 -> 6 | G48: ='Списак уч. по учионицама'!C62 -> Душан Крстић | H48: ='Списак уч. по учионицама'!D62 -> 7 | I48: ='Списак уч. по учионицама'!F62 -> Алекса Шантић | J48: ='Списак уч. по учионицама'!K62 -> 2 | K48: ='Списак уч. по учионицама'!L62 -> 9
A49: Име и презиме | B49: Разред | C49: Школа | D49: Учионица | E49: Радно место | G49: Име и презиме | H49: Разред | I49: Школа | J49: Учионица | K49: Радно место
A50: ='Списак уч. по учионицама'!C63 -> Лука Јовановић | B50: ='Списак уч. по учионицама'!D63 -> 7 | C50: ='Списак уч. по учионицама'!F63 -> Вук Караџић | D50: ='Списак уч. по учионицама'!K63 -> 2 | E50: ='Списак уч. по учионицама'!L63 -> 14 | G50: ='Списак уч. по учионицама'!C64 -> Јелисавета Поповић | H50: ='Списак уч. по учионицама'!D64 -> 7 | I50: ='Списак уч. по учионицама'!F64 -> Јелена Ћетковић | J50: ='Списак уч. по учионицама'!K64 -> 2 | K50: ='Списак уч. по учионицама'!L64 -> 18
A51: Име и презиме | B51: Разред | C51: Школа | D51: Учионица | E51: Радно место | G51: Име и презиме | H51: Разред | I51: Школа | J51: Учионица | K51: Радно место
A52: ='Списак уч. по учионицама'!C65 -> Луција Караџић | B52: ='Списак уч. по учионицама'!D65 -> 7 | C52: ='Списак уч. по учионицама'!F65 -> Доситеј Обрадовић | D52: ='Списак уч. по учионицама'!K65 -> 2 | E52: ='Списак уч. по учионицама'!L65 -> 21 | G52: ='Списак уч. по учионицама'!C66 -> Тамара Милић | H52: ='Списак уч. по учионицама'!D66 -> 7 | I52: ='Списак уч. по учионицама'!F66 -> ОШ "Свети Сава" | J52: ='Списак уч. по учионицама'!K66 -> 2 | K52: ='Списак уч. по учионицама'!L66 -> 26
A53: Име и презиме | B53: Разред | C53: Школа | D53: Учионица | E53: Радно место | G53: Име и презиме | H53: Разред | I53: Школа | J53: Учионица | K53: Радно место
A54: ='Списак уч. по учионицама'!C67 -> Стефан Павловић | B54: ='Списак уч. по учионицама'!D67 -> 7 | C54: ='Списак уч. по учионицама'!F67 -> Карађорђе | D54: ='Списак уч. по учионицама'!K67 -> 2 | E54: ='Списак уч. по учионицама'!L67 -> 30 | G54: ='Списак уч. по учионицама'!C68 -> Огњен Милојевић | H54: ='Списак уч. по учионицама'!D68 -> 8 | I54: ='Списак уч. по учионицама'!F68 -> Борислав Пекић | J54: ='Списак уч. по учионицама'!K68 -> 2 | K54: ='Списак уч. по учионицама'!L68 -> 4
A55: Име и презиме | B55: Разред | C55: Школа | D55: Учионица | E55: Радно место | G55: Име и презиме | H55: Разред | I55: Школа | J55: Учионица | K55: Радно место
A56: ='Списак уч. по учионицама'!C69 -> Тијана Бељић | B56: ='Списак уч. по учионицама'!D69 -> 8 | C56: ='Списак уч. по учионицама'!F69 -> ОШ"Дуле Караклајић" | D56: ='Списак уч. по учионицама'!K69 -> 2 | E56: ='Списак уч. по учионицама'!L69 -> 7 | G56: ='Списак уч. по учионицама'!C70 -> Лука Граховац | H56: ='Списак уч. по учионицама'!D70 -> 8 | I56: ='Списак уч. по учионицама'!F70 -> Михајло Пупин | J56: ='Списак уч. по учионицама'!K70 -> 2 | K56: ='Списак уч. по учионицама'!L70 -> 11
A57: Име и презиме | B57: Разред | C57: Школа | D57: Учионица | E57: Радно место | G57: Име и презиме | H57: Разред | I57: Школа | J57: Учионица | K57: Радно место
A58: ='Списак уч. по учионицама'!C71 -> Марко Радојевић | B58: ='Списак уч. по учионицама'!D71 -> 8 | C58: ='Списак уч. по учионицама'!F71 -> Лаза Костић | D58: ='Списак уч. по учионицама'!K71 -> 2 | E58: ='Списак уч. по учионицама'!L71 -> 16 | G58: ='Списак уч. по учионицама'!C72 -> Лука Савковић | H58: ='Списак уч. по учионицама'!D72 -> 8 | I58: ='Списак уч. по учионицама'!F72 -> И.Гарашанин | J58: ='Списак уч. по учионицама'!K72 -> 2 | K58: ='Списак уч. по учионицама'!L72 -> 19
A59: Име и презиме | B59: Разред | C59: Школа | D59: Учионица | E59: Радно место | G59: Име и презиме | H59: Разред | I59: Школа | J59: Учионица | K59: Радно место
A60: ='Списак уч. по учионицама'!C73 -> Драгослав Митровић | B60: ='Списак уч. по учионицама'!D73 -> 8 | C60: ='Списак уч. по учионицама'!F73 -> Браћа Барух | D60: ='Списак уч. по учионицама'!K73 -> 2 | E60: ='Списак уч. по учионицама'!L73 -> 23 | G60: ='Списак уч. по учионицама'!C74 -> Наташа Ковачевић | H60: ='Списак уч. по учионицама'!D74 -> 8 | I60: ='Списак уч. по учионицама'!F74 -> Мика Антић | J60: ='Списак уч. по учионицама'!K74 -> 2 | K60: ='Списак уч. по учионицама'!L74 -> 28
A61: Име и презиме | B61: Разред | C61: Школа | D61: Учионица | E61: Радно место | G61: Име и презиме | H61: Разред | I61: Школа | J61: Учионица | K61: Радно место
A62: ='Списак уч. по учионицама'!C78 -> Алексеј Стевановић | B62: ='Списак уч. по учионицама'!D78 -> 6 | C62: ='Списак уч. по учионицама'!F78 -> Краљ Петар Први | D62: ='Списак уч. по учионицама'!K78 -> 3 | E62: ='Списак уч. по учионицама'!L78 -> 1 | G62: ='Списак уч. по учионицама'!C79 -> Павле Неговановић | H62: ='Списак уч. по учионицама'!D79 -> 6 | I62: ='Списак уч. по учионицама'!F79 -> Момчило Живојиновић | J62: ='Списак уч. по учионицама'!K79 -> 3 | K62: ='Списак уч. по учионицама'!L79 -> 3
A63: Име и презиме | B63: Разред | C63: Школа | D63: Учионица | E63: Радно место | G63: Име и презиме | H63: Разред | I63: Школа | J63: Учионица | K63: Радно место
A64: ='Списак уч. по учионицама'!C80 -> Нина Орландић | B64: ='Списак уч. по учионицама'!D80 -> 6 | C64: ='Списак уч. по учионицама'!F80 -> ОШ "Свети Сава" | D64: ='Списак уч. по учионицама'!K80 -> 3 | E64: ='Списак уч. по учионицама'!L80 -> 5 | G64: ='Списак уч. по учионицама'!C81 -> Предраг Марковић | H64: ='Списак уч. по учионицама'!D81 -> 6 | I64: ='Списак уч. по учионицама'!F81 -> Светозар Марковић | J64: ='Списак уч. по учионицама'!K81 -> 3 | K64: ='Списак уч. по учионицама'!L81 -> 8
A65: Име и презиме | B65: Разред | C65: Школа | D65: Учионица | E65: Радно место | G65: Име и презиме | H65: Разред | I65: Школа | J65: Учионица | K65: Радно место
A66: ='Списак уч. по учионицама'!C82 -> Ана Марић | B66: ='Списак уч. по учионицама'!D82 -> 6 | C66: ='Списак уч. по учионицама'!F82 -> Јован Дучић | D66: ='Списак уч. по учионицама'!K82 -> 3 | E66: ='Списак уч. по учионицама'!L82 -> 10 | G66: ='Списак уч. по учионицама'!C83 -> Огњен Радојичић | H66: ='Списак уч. по учионицама'!D83 -> 6 | I66: ='Списак уч. по учионицама'!F83 -> Јосиф Панчић | J66: ='Списак уч. по учионицама'!K83 -> 3 | K66: ='Списак уч. по учионицама'!L83 -> 12
A67: Име и презиме | B67: Разред | C67: Школа | D67: Учионица | E67: Радно место | G67: Име и презиме | H67: Разред | I67: Школа | J67: Учионица | K67: Радно место
A68: ='Списак уч. по учионицама'!C84 -> Ива Јандрлић | B68: ='Списак уч. по учионицама'!D84 -> 6 | C68: ='Списак уч. по учионицама'!F84 -> Влада Аксентијевић | D68: ='Списак уч. по учионицама'!K84 -> 3 | E68: ='Списак уч. по учионицама'!L84 -> 13 | G68: ='Списак уч. по учионицама'!C85 -> Урош Туркуљ | H68: ='Списак уч. по учионицама'!D85 -> 6 | I68: ='Списак уч. по учионицама'!F85 -> ОШ „Јован Ристић“ | J68: ='Списак уч. по учионицама'!K85 -> 3 | K68: ='Списак уч. по учионицама'!L85 -> 15
A69: Име и презиме | B69: Разред | C69: Школа | D69: Учионица | E69: Радно место | G69: Име и презиме | H69: Разред | I69: Школа | J69: Учионица | K69: Радно место
A70: ='Списак уч. по учионицама'!C86 -> Невена Стефановић | B70: ='Списак уч. по учионицама'!D86 -> 6 | C70: ='Списак уч. по учионицама'!F86 -> Младост | D70: ='Списак уч. по учионицама'!K86 -> 3 | E70: ='Списак уч. по учионицама'!L86 -> 17 | G70: ='Списак уч. по учионицама'!C87 -> Марија Митровић | H70: ='Списак уч. по учионицама'!D87 -> 6 | I70: ='Списак уч. по учионицама'!F87 -> Филип Филиповић | J70: ='Списак уч. по учионицама'!K87 -> 3 | K70: ='Списак уч. по учионицама'!L87 -> 20
A71: Име и презиме | B71: Разред | C71: Школа | D71: Учионица | E71: Радно место | G71: Име и презиме | H71: Разред | I71: Школа | J71: Учионица | K71: Радно место
A72: ='Списак уч. по учионицама'!C88 -> Марко Миловановић | B72: ='Списак уч. по учионицама'!D88 -> 6 | C72: ='Списак уч. по учионицама'!F88 -> Драган Лукић | D72: ='Списак уч. по учионицама'!K88 -> 3 | E72: ='Списак уч. по учионицама'!L88 -> 22 | G72: ='Списак уч. по учионицама'!C89 -> Лара Јовановић | H72: ='Списак уч. по учионицама'!D89 -> 6 | I72: ='Списак уч. по учионицама'!F89 -> Посавски партизани | J72: ='Списак уч. по учионицама'!K89 -> 3 | K72: ='Списак уч. по учионицама'!L89 -> 24
A73: Име и презиме | B73: Разред | C73: Школа | D73: Учионица | E73: Радно место | G73: Име и презиме | H73: Разред | I73: Школа | J73: Учионица | K73: Радно место
A74: ='Списак уч. по учионицама'!C90 -> Саша Јеремић | B74: ='Списак уч. по учионицама'!D90 -> 6 | C74: ='Списак уч. по учионицама'!F90 -> „Никола Тесла“ | D74: ='Списак уч. по учионицама'!K90 -> 3 | E74: ='Списак уч. по учионицама'!L90 -> 25 | G74: ='Списак уч. по учионицама'!C91 -> Матеја Павловић | H74: ='Списак уч. по учионицама'!D91 -> 6 | I74: ='Списак уч. по учионицама'!F91 -> Краљ Петар Први | J74: ='Списак уч. по учионицама'!K91 -> 3 | K74: ='Списак уч. по учионицама'!L91 -> 27
A75: Име и презиме | B75: Разред | C75: Школа | D75: Учионица | E75: Радно место | G75: Име и презиме | H75: Разред | I75: Школа | J75: Учионица | K75: Радно место
A76: ='Списак уч. по учионицама'!C92 -> Николина Јовановић | B76: ='Списак уч. по учионицама'!D92 -> 6 | C76: ='Списак уч. по учионицама'!F92 -> Драгојло Дудић | D76: ='Списак уч. по учионицама'!K92 -> 3 | E76: ='Списак уч. по учионицама'!L92 -> 29 | G76: ='Списак уч. по учионицама'!C93 -> Елена Поповић | H76: ='Списак уч. по учионицама'!D93 -> 7 | I76: ='Списак уч. по учионицама'!F93 -> Лаза Костић | J76: ='Списак уч. по учионицама'!K93 -> 3 | K76: ='Списак уч. по учионицама'!L93 -> 2
A77: Име и презиме | B77: Разред | C77: Школа | D77: Учионица | E77: Радно место | G77: Име и презиме | H77: Разред | I77: Школа | J77: Учионица | K77: Радно место
A78: ='Списак уч. по учионицама'!C94 -> Марко Митић | B78: ='Списак уч. по учионицама'!D94 -> 7 | C78: ='Списак уч. по учионицама'!F94 -> Математичка гимназија | D78: ='Списак уч. по учионицама'!K94 -> 3 | E78: ='Списак уч. по учионицама'!L94 -> 6 | G78: ='Списак уч. по учионицама'!C95 -> Емилија Шарић | H78: ='Списак уч. по учионицама'!D95 -> 7 | I78: ='Списак уч. по учионицама'!F95 -> „Иво Андрић“ | J78: ='Списак уч. по учионицама'!K95 -> 3 | K78: ='Списак уч. по учионицама'!L95 -> 9
A79: Име и презиме | B79: Разред | C79: Школа | D79: Учионица | E79: Радно место | G79: Име и презиме | H79: Разред | I79: Школа | J79: Учионица | K79: Радно место
A80: ='Списак уч. по учионицама'!C96 -> Миа Вучетић | B80: ='Списак уч. по учионицама'!D96 -> 7 | C80: ='Списак уч. по учионицама'!F96 -> Ћирило и Методије | D80: ='Списак уч. по учионицама'!K96 -> 3 | E80: ='Списак уч. по учионицама'!L96 -> 14 | G80: ='Списак уч. по учионицама'!C97 -> Сава Ивановић | H80: ='Списак уч. по учионицама'!D97 -> 7 | I80: ='Списак уч. по учионицама'!F97 -> Јован Миодраговић | J80: ='Списак уч. по учионицама'!K97 -> 3 | K80: ='Списак уч. по учионицама'!L97 -> 18
A81: Име и презиме | B81: Разред | C81: Школа | D81: Учионица | E81: Радно место | G81: Име и презиме | H81: Разред | I81: Школа | J81: Учионица | K81: Радно место
A82: ='Списак уч. по учионицама'!C98 -> Матеја Јелисавчић | B82: ='Списак уч. по учионицама'!D98 -> 7 | C82: ='Списак уч. по учионицама'!F98 -> Милош Црњански | D82: ='Списак уч. по учионицама'!K98 -> 3 | E82: ='Списак уч. по учионицама'!L98 -> 21 | G82: ='Списак уч. по учионицама'!C99 -> Сергеј Батовац | H82: ='Списак уч. по учионицама'!D99 -> 7 | I82: ='Списак уч. по учионицама'!F99 -> Посавски партизани | J82: ='Списак уч. по учионицама'!K99 -> 3 | K82: ='Списак уч. по учионицама'!L99 -> 26
A83: Име и презиме | B83: Разред | C83: Школа | D83: Учионица | E83: Радно место | G83: Име и презиме | H83: Разред | I83: Школа | J83: Учионица | K83: Радно место
A84: ='Списак уч. по учионицама'!C100 -> Илија Тачевић | B84: ='Списак уч. по учионицама'!D100 -> 7 | C84: ='Списак уч. по учионицама'!F100 -> Владислав Рибникар | D84: ='Списак уч. по учионицама'!K100 -> 3 | E84: ='Списак уч. по учионицама'!L100 -> 30 | G84: ='Списак уч. по учионицама'!C101 -> Алекса Данић | H84: ='Списак уч. по учионицама'!D101 -> 8 | I84: ='Списак уч. по учионицама'!F101 -> Драган Лукић | J84: ='Списак уч. по учионицама'!K101 -> 3 | K84: ='Списак уч. по учионицама'!L101 -> 4
A85: Име и презиме | B85: Разред | C85: Школа | D85: Учионица | E85: Радно место | G85: Име и презиме | H85: Разред | I85: Школа | J85: Учионица | K85: Радно место
A86: ='Списак уч. по учионицама'!C102 -> Мина Стаменић | B86: ='Списак уч. по учионицама'!D102 -> 8 | C86: ='Списак уч. по учионицама'!F102 -> „Никола Тесла“ | D86: ='Списак уч. по учионицама'!K102 -> 3 | E86: ='Списак уч. по учионицама'!L102 -> 7 | G86: ='Списак уч. по учионицама'!C103 -> Драга Марјановић | H86: ='Списак уч. по учионицама'!D103 -> 8 | I86: ='Списак уч. по учионицама'!F103 -> Данило Киш | J86: ='Списак уч. по учионицама'!K103 -> 3 | K86: ='Списак уч. по учионицама'!L103 -> 11
A87: Име и презиме | B87: Разред | C87: Школа | D87: Учионица | E87: Радно место | G87: Име и презиме | H87: Разред | I87: Школа | J87: Учионица | K87: Радно место
A88: ='Списак уч. по учионицама'!C104 -> Селена Токовић | B88: ='Списак уч. по учионицама'!D104 -> 8 | C88: ='Списак уч. по учионицама'!F104 -> Математичка гимназија | D88: ='Списак уч. по учионицама'!K104 -> 3 | E88: ='Списак уч. по учионицама'!L104 -> 16 | G88: ='Списак уч. по учионицама'!C105 -> Маја Јованић | H88: ='Списак уч. по учионицама'!D105 -> 8 | I88: ='Списак уч. по учионицама'!F105 -> Математичка гимназија | J88: ='Списак уч. по учионицама'!K105 -> 3 | K88: ='Списак уч. по учионицама'!L105 -> 19
A89: Име и презиме | B89: Разред | C89: Школа | D89: Учионица | E89: Радно место | G89: Име и презиме | H89: Разред | I89: Школа | J89: Учионица | K89: Радно место
A90: ='Списак уч. по учионицама'!C106 -> Немања Максић | B90: ='Списак уч. по учионицама'!D106 -> 8 | C90: ='Списак уч. по учионицама'!F106 -> Стеван Синђелић | D90: ='Списак уч. по учионицама'!K106 -> 3 | E90: ='Списак уч. по учионицама'!L106 -> 23 | G90: ='Списак уч. по учионицама'!C107 -> Јана Ломић | H90: ='Списак уч. по учионицама'!D107 -> 8 | I90: ='Списак уч. по учионицама'!F107 -> 20. октобар | J90: ='Списак уч. по учионицама'!K107 -> 3 | K90: ='Списак уч. по учионицама'!L107 -> 28
A91: Име и презиме | B91: Разред | C91: Школа | D91: Учионица | E91: Радно место | G91: Име и презиме | H91: Разред | I91: Школа | J91: Учионица | K91: Радно место
A92: ='Списак уч. по учионицама'!C111 -> Марко Кукић | B92: ='Списак уч. по учионицама'!D111 -> 6 | C92: ='Списак уч. по учионицама'!F111 -> Краљ Петар Први | D92: ='Списак уч. по учионицама'!K111 -> 4 | E92: ='Списак уч. по учионицама'!L111 -> 2 | G92: ='Списак уч. по учионицама'!C112 -> Марија Радовановић | H92: ='Списак уч. по учионицама'!D112 -> 6 | I92: ='Списак уч. по учионицама'!F112 -> Момчило Живојиновић | J92: ='Списак уч. по учионицама'!K112 -> 4 | K92: ='Списак уч. по учионицама'!L112 -> 6
A93: Име и презиме | B93: Разред | C93: Школа | D93: Учионица | E93: Радно место | G93: Име и презиме | H93: Разред | I93: Школа | J93: Учионица | K93: Радно место
A94: ='Списак уч. по учионицама'!C113 -> Слободан Јањић | B94: ='Списак уч. по учионицама'!D113 -> 6 | C94: ='Списак уч. по учионицама'!F113 -> Франце Прешерн | D94: ='Списак уч. по учионицама'!K113 -> 4 | E94: ='Списак уч. по учионицама'!L113 -> 9 | G94: ='Списак уч. по учионицама'!C114 -> Јован Кепић | H94: ='Списак уч. по учионицама'!D114 -> 6 | I94: ='Списак уч. по учионицама'!F114 -> Браћа Барух | J94: ='Списак уч. по учионицама'!K114 -> 4 | K94: ='Списак уч. по учионицама'!L114 -> 14
A95: Име и презиме | B95: Разред | C95: Школа | D95: Учионица | E95: Радно место | G95: Име и презиме | H95: Разред | I95: Школа | J95: Учионица | K95: Радно место
A96: ='Списак уч. по учионицама'!C115 -> Јована Савковић | B96: ='Списак уч. по учионицама'!D115 -> 6 | C96: ='Списак уч. по учионицама'!F115 -> Кнегиња Милица | D96: ='Списак уч. по учионицама'!K115 -> 4 | E96: ='Списак уч. по учионицама'!L115 -> 18 | G96: ='Списак уч. по учионицама'!C116 -> Марија Тошић | H96: ='Списак уч. по учионицама'!D116 -> 6 | I96: ='Списак уч. по учионицама'!F116 -> Љуба Ненадовић | J96: ='Списак уч. по учионицама'!K116 -> 4 | K96: ='Списак уч. по учионицама'!L116 -> 21
A97: Име и презиме | B97: Разред | C97: Школа | D97: Учионица | E97: Радно место | G97: Име и презиме | H97: Разред | I97: Школа | J97: Учионица | K97: Радно место
A98: ='Списак уч. по учионицама'!C117 -> Гаврило Николић | B98: ='Списак уч. по учионицама'!D117 -> 6 | C98: ='Списак уч. по учионицама'!F117 -> ОШ „Старина Новак“ | D98: ='Списак уч. по учионицама'!K117 -> 4 | E98: ='Списак уч. по учионицама'!L117 -> 26 | G98: ='Списак уч. по учионицама'!C118 -> Ивор Кварантан | H98: ='Списак уч. по учионицама'!D118 -> 6 | I98: ='Списак уч. по учионицама'!F118 -> Марко Орешковић | J98: ='Списак уч. по учионицама'!K118 -> 4 | K98: ='Списак уч. по учионицама'!L118 -> 30
A99: Име и презиме | B99: Разред | C99: Школа | D99: Учионица | E99: Радно место | G99: Име и презиме | H99: Разред | I99: Школа | J99: Учионица | K99: Радно место
A100: ='Списак уч. по учионицама'!C119 -> Нина Богдановић | B100: ='Списак уч. по учионицама'!D119 -> 7 | C100: ='Списак уч. по учионицама'!F119 -> Радоје Домановић | D100: ='Списак уч. по учионицама'!K119 -> 4 | E100: ='Списак уч. по учионицама'!L119 -> 1 | G100: ='Списак уч. по учионицама'!C120 -> Софија Чебашек | H100: ='Списак уч. по учионицама'!D120 -> 7 | I100: ='Списак уч. по учионицама'!F120 -> Математичка гимназија | J100: ='Списак уч. по учионицама'!K120 -> 4 | K100: ='Списак уч. по учионицама'!L120 -> 3
...

Sheet 6.разред
A6: 6. разред
A8: Редни | B8: ШИФРА | C8: ИМЕ И ПРЕЗИМЕ | D8: РАЗРЕД | E8: Посебно одељење | F8: ШКОЛА | G8: ОПШТИНА | H8: ПРЕДМЕТНИ | I8: Зад 1 | J8: Зад 2 | K8: Зад 3 | L8: Зад 4 | M8: Зад 5 | N8: Укупно | O8: НАГРАДА
A9: број | C9: УЧЕНИКА | H9: НАСТАВНИК | N9: бодова
A10: 1 | B10: 6010 | C10: Ана Марић | D10: 6 | E10: НЕ | F10: Јован Дучић | G10: Нови Београд | H10: Анђа Поповић | I10: 20 | J10: 20 | K10: 20 | L10: 20 | M10: 20 | N10: =SUM(I10:M10) -> 100 | O10: I
A11: 2 | B11: 6027 | C11: Анђела Несторовић | D11: 6 | E11: НЕ | F11: Ђорђе Крстић | G11: Чукарица | H11: Вера Вранић | I11: 20 | J11: 20 | K11: 20 | L11: 20 | M11: 20 | N11: =SUM(I11:M11) -> 100 | O11: I
A12: 3 | B12: 6042 | C12: Владимир Лукић | D12: 6 | E12: НЕ | F12: ОШ „Стеван Дукић“ | G12: Палилула | H12: Минка Милићевић | I12: 20 | J12: 20 | K12: 20 | L12: 20 | M12: 20 | N12: =SUM(I12:M12) -> 100 | O12: I
A13: 4 | B13: 6055 | C13: Дамјан Граовац | D13: 6 | E13: НЕ | F13: Деспот Стефан Лазаревић | G13: Звездара | H13: Тамара Шево | I13: 20 | J13: 20 | K13: 20 | L13: 20 | M13: 20 | N13: =SUM(I13:M13) -> 100 | O13: I
A14: 5 | B14: 6067 | C14: Душан Лазовић | D14: 6 | E14: НЕ | F14: ОШ „Стеван Дукић“ | G14: Палилула | H14: Минка Милићевић | I14: 20 | J14: 20 | K14: 20 | L14: 20 | M14: 20 | N14: =SUM(I14:M14) -> 100 | O14: I
A15: 6 | B15: 6077 | C15: Ива Живковић | D15: 6 | E15: НЕ | F15: ОШ ,,Јован Миодраговић” | G15: Врачар | H15: Анита Тасић | I15: 20 | J15: 20 | K15: 20 | L15: 20 | M15: 20 | N15: =SUM(I15:M15) -> 100 | O15: I
A16: 7 | B16: 6164 | C16: Милош Мандић | D16: 6 | E16: НЕ | F16: Бранко Радичевић | G16: Нови Београд | H16: Зоран Алексић | I16: 20 | J16: 20 | K16: 20 | L16: 20 | M16: 20 | N16: =SUM(I16:M16) -> 100 | O16: I
A17: 8 | B17: 6176 | C17: Нађа Митровић | D17: 6 | E17: НЕ | F17: „Бранко Ћопић“ | G17: Раковица | H17: Југослав Секулић | I17: 20 | J17: 20 | K17: 20 | L17: 20 | M17: 20 | N17: =SUM(I17:M17) -> 100 | O17: I
A18: 9 | B18: 6177 | C18: Нађа Петровић | D18: 6 | E18: НЕ | F18: Драган Лукић | G18: Нови Београд | H18: Јелена Латас | I18: 20 | J18: 20 | K18: 20 | L18: 20 | M18: 20 | N18: =SUM(I18:M18) -> 100 | O18: I
A19: 10 | B19: 6200 | C19: Нина Милетић | D19: 6 | E19: НЕ | F19: И. Бирчанин | G19: Земун | H19: Драгана Михајловић | I19: 20 | J19: 20 | K19: 20 | L19: 20 | M19: 20 | N19: =SUM(I19:M19) -> 100 | O19: I
A20: 11 | B20: 6201 | C20: Нина Орландић | D20: 6 | E20: НЕ | F20: ОШ "Свети Сава" | G20: Врачар | H20: Наташа Станић | I20: 20 | J20: 20 | K20: 20 | L20: 20 | M20: 20 | N20: =SUM(I20:M20) -> 100 | O20: I
A21: 12 | B21: 6202 | C21: Новак Јанкуцић | D21: 6 | E21: НЕ | F21: „Никола Тесла“ | G21: Раковица | H21: Весна Манић | I21: 20 | J21: 20 | K21: 20 | L21: 20 | M21: 20 | N21: =SUM(I21:M21) -> 100 | O21: I
... A191: 182 | B191: 6139 | C191: Марко Катић | D191: 6 | E191: НЕ | F191: Уједињене Нације | G191: Чукарица | H191: Ана Марјановић | I191: 20 | J191: 11 | K191: 2 | L191: 9 | M191: 13 | N191: =SUM(I191:M191) -> 55 | O191: Похвала
A192: 183 | B192: 6279 | C192: Михајло Беговић | D192: 6 | E192: НЕ | F192: Раде Трајинац | I192: 5 | J192: 11 | K192: 15 | L192: 19 | M192: 5 | N192: =SUM(I192:M192) -> 55 | O192: Похвала
A193: 184 | B193: 6195 | C193: Никола Тасић | D193: 6 | E193: НЕ | F193: 20. октобар | G193: Нови Београд | H193: Тања Жугић | I193: 20 | J193: 11 | K193: 3 | L193: 6 | M193: 15 | N193: =SUM(I193:M193) -> 55 | O193: Похвала
A194: 185 | B194: 6267 | C194: Теодора Мићић | D194: 6 | E194: НЕ | F194: Доситеј Обрадовић | G194: Чукарица | H194: Зорица Теохаревић | I194: 9 | J194: 20 | K194: 2 | L194: 10 | M194: 14 | N194: =SUM(I194:M194) -> 55 | O194: Похвала
A195: 186 | B195: 6001 | C195: Aндреј Илић | D195: 6 | E195: НЕ | F195: Веселин Маслеша | G195: Вождовац | H195: Љубица Вучић | I195: 20 | J195: 20 | K195: 3 | L195: 7.5 | M195: 3 | N195: =SUM(I195:M195) -> 53.5 | O195: Похвала
A196: 187 | B196: 6078 | C196: Ива Јандрлић | D196: 6 | E196: НЕ | F196: ОШ „Влада Аксентијевић“ | G196: Палилула | H196: Јелена Вучетић | I196: 0 | J196: 20 | K196: 3 | L196: 14 | M196: 16 | N196: =SUM(I196:M196) -> 53 | O196: Похвала
A197: 188 | B197: 6193 | C197: Никола Ранисављевић | D197: 6 | E197: НЕ | F197: Михајло Пупин | G197: Земун | H197: Мирјана Бањац | I197: 9 | J197: 20 | K197: 0 | L197: 14 | M197: 10 | N197: =SUM(I197:M197) -> 53 | O197: Похвала
A198: 189 | B198: 6242 | C198: Сергеј Костић | D198: 6 | E198: НЕ | F198: Дринка Павловић | G198: Стари град | H198: Ивана Томић | I198: 5 | J198: 17 | K198: 3 | L198: 11 | M198: 17 | N198: =SUM(I198:M198) -> 53 | O198: Похвала
A199: 190 | B199: 6057 | C199: Дане Јовчић | D199: 6 | E199: НЕ | F199: ОШ „Ослободиоци Београда“ | G199: Палилула | H199: Ана Манготић | I199: 20 | J199: 11 | K199: 2 | L199: 1.5 | M199: 17.5 | N199: =SUM(I199:M199) -> 52
A200: 191 | B200: 6107 | C200: Јована Томашевић | D200: 6 | E200: НЕ | F200: Доситеј Обрадовић | G200: Чукарица | H200: Зорица Теохаревић | I200: 5 | J200: 11 | K200: 2 | L200: 20 | M200: 14 | N200: =SUM(I200:M200) -> 52
A201: 192 | B201: 6129 | C201: Максим Филиповић | D201: 6 | E201: НЕ | F201: Посавски партизани | G201: Обреновац | H201: Маја Димковић | I201: 20 | J201: 16 | K201: 3 | L201: 8 | M201: 5 | N201: =SUM(I201:M201) -> 52
A202: 193 | B202: 6210 | C202: Олга Михаиловић | D202: 6 | E202: НЕ | F202: Г. Принцип | G202: Земун | H202: Љиљана Милошевић | I202: 20 | J202: 2 | K202: 3 | L202: 7 | M202: 20 | N202: =SUM(I202:M202) -> 52
A203: 194 | B203: 6084 | C203: Ивона Грујић | D203: 6 | E203: НЕ | F203: Г. Принцип | G203: Земун | H203: Љиљана Милошевић | I203: 20 | J203: 11 | K203: 0 | L203: 17 | M203: 3 | N203: =SUM(I203:M203) -> 51
A204: 195 | B204: 6252 | C204: Стефан Ристески | D204: 6 | E204: НЕ | F204: Лаза Костић | G204: Нови Београд | H204: Ђорђе Ћипаризовић | I204: 0 | J204: 8 | K204: 3 | L204: 20 | M204: 20 | N204: =SUM(I204:M204) -> 51
A205: 196 | B205: 6005 | C205: Александар В. Весић | D205: 6 | E205: НЕ | F205: Доситеј Обрадовић | G205: Чукарица | H205: Зорица Теохаревић | I205: 9 | J205: 17 | K205: 3 | L205: 14 | M205: 7 | N205: =SUM(I205:M205) -> 50
A206: 197 | B206: 6237 | C206: Саво Бошковић | D206: 6 | E206: НЕ | F206: Драган Лукић | G206: Нови Београд | H206: Јелена Латас | I206: 20 | J206: 10 | K206: 3 | L206: 11 | M206: 6 | N206: =SUM(I206:M206) -> 50
A207: 198 | B207: 6249 | C207: Стефан Ђокић | D207: 6 | E207: НЕ | F207: Јелена Ћетковић | G207: Звездара | H207: Весна Тодоровић Ристић | I207: 20 | J207: 20 | K207: 2 | L207: 8 | M207: 0 | N207: =SUM(I207:M207) -> 50
A208: 199 | B208: 6033 | C208: Ања Поповић | D208: 6 | E208: НЕ | F208: Иван Гундулић | G208: Нови Београд | H208: Драгица Момчиловић | I208: 0 | J208: 20 | K208: 3 | L208: 20 | M208: 6 | N208: =SUM(I208:M208) -> 49
A209: 200 | B209: 6046 | C209: Вук Василијевић | D209: 6 | E209: НЕ | F209: Филип Филиповић | G209: Вождовац | H209: Нада Јојић | I209: 13 | J209: 20 | K209: 1 | L209: 4 | M209: 11 | N209: =SUM(I209:M209) -> 49
A210: 201 | B210: 6180 | C210: Наталија Живковић | D210: 6 | E210: НЕ | F210: Јелена Ћетковић | G210: Звездара | H210: Весна Тодоровић Ристић | I210: 20 | J210: 17 | K210: 4 | L210: 8 | M210: 0 | N210: =SUM(I210:M210) -> 49
... A277: 268 | B277: 6216 | C277: Павле Ђоковић | D277: 6 | E277: НЕ | F277: Ћилило и Методије | G277: Звездара | H277: Драгана Ранковић | I277: 0 | J277: 0 | K277: 3 | L277: 6 | M277: 3 | N277: =SUM(I277:M277) -> 12
A278: 269 | B278: 6008 | C278: Алексеј Стевановић | D278: 6 | E278: НЕ | F278: Краљ Петар Први | G278: Стари град | H278: Станислав Миловановић | N278: =SUM(I278:M278) -> 0
A279: 270 | B279: 6031 | C279: Ања Маченовски | D279: 6 | E279: НЕ | F279: ОШ"Кнез Лазар" | G279: Лазаревац | H279: Слободанка Николић Максимовић | N279: =SUM(I279:M279) -> 0
A280: 271 | B280: 6069 | C280: Ђорђе Перишић | D280: 6 | E280: НЕ | F280: Бора Станковић | G280: Вождовац | H280: Јован Анђелковић | N280: =SUM(I280:M280) -> 0
A281: 272 | B281: 6071 | C281: Ђурђа Јовић | D281: 6 | E281: НЕ | F281: Стефан Дечански | G281: Чукарица | H281: Наташа Костић | N281: =SUM(I281:M281) -> 0
A282: 273 | B282: 6095 | C282: Јана Симић | D282: 6 | E282: НЕ | F282: ОШ"Кнез Лазар" | G282: Лазаревац | H282: Слободанка Николић Максимовић | N282: =SUM(I282:M282) -> 0 | AQ282: =13*8 -> 104
A283: 274 | B283: 6097 | C283: Јелена Влашки | D283: 6 | E283: НЕ | F283: Павле Савић | G283: Звездара | H283: Ивана Јоновић | N283: =SUM(I283:M283) -> 0 | AQ283: 45
A284: 275 | B284: 6105 | C284: Јована Крњаја | D284: 6 | E284: НЕ | F284: М.Ђ.Милићевић | G284: Вождовац | H284: Снежана Дујаковић | N284: =SUM(I284:M284) -> 0 | AQ284: 20
A285: 276 | B285: 6111 | C285: Катарина Чедић | D285: 6 | E285: НЕ | F285: Владислав Пeтковић Дис | G285: Звездара | H285: Даниела Самарџија | N285: =SUM(I285:M285) -> 0 | AQ285: 10
A286: 277 | B286: 6148 | C286: Матеја Павловић | D286: 6 | E286: НЕ | F286: Краљ Петар Први | G286: Стари град | H286: Станислав Миловановић | N286: =SUM(I286:M286) -> 0 | AQ286: 11
A287: 278 | B287: 6215 | C287: Павле Вељић | D287: 6 | E287: НЕ | F287: Петар Кочић | G287: Земун | H287: Ива Вулић | N287: =SUM(I287:M287) -> 0
A288: 279 | B288: 6264 | C288: Тара Салом | D288: 6 | E288: НЕ | F288: 20. октобар | G288: Нови Београд | H288: Маријета Ђаковић | N288: =SUM(I288:M288) -> 0

Sheet 7.разред
A6: 7. разред
A10: Редни | B10: ШИФРА | C10: ИМЕ И ПРЕЗИМЕ | D10: РАЗРЕД | E10: Посебно одељење | F10: ШКОЛА | G10: ОПШТИНА | H10: ПРЕДМЕТНИ | I10: Зад 1 | J10: Зад 2 | K10: Зад 3 | L10: Зад 4 | M10: Зад 5 | N10: Укупно | O10: НАГРАДА
A11: број | C11: УЧЕНИКА | H11: НАСТАВНИК | N11: бодова
A13: Математичка гимназија
A15: 1 | B15: 7014 | C15: Андреј Петровић | D15: 7 | E15: ДА | F15: Математичка гимназија | G15: Стари град | H15: Вишња Јовановић | I15: 20 | J15: 20 | K15: 20 | L15: 20 | M15: 20 | N15: =SUM(I15:M15) -> 100 | O15: I | AQ15: #REF!
A16: 2 | B16: 7082 | C16: Јанко Поповић | D16: 7 | E16: ДА | F16: Математичка гимназија | G16: Београд | H16: Вишња Јовановић | I16: 20 | J16: 20 | K16: 20 | L16: 20 | M16: 20 | N16: =SUM(I16:M16) -> 100 | O16: I
A17: 3 | B17: 7108 | C17: Марија Михајловић | D17: 7 | E17: ДА | F17: Математичка гимназија | G17: Београд | H17: Вишња Јовановић | I17: 20 | J17: 20 | K17: 20 | L17: 20 | M17: 20 | N17: =SUM(I17:M17) -> 100 | O17: I
A18: 4 | B18: 7114 | C18: Марко Трајковић | D18: 7 | E18: ДА | F18: Математичка гимназија | G18: Стари град | H18: Вишња Јовановић | I18: 20 | J18: 20 | K18: 20 | L18: 20 | M18: 20 | N18: =SUM(I18:M18) -> 100 | O18: I
A19: 5 | B19: 7044 | C19: Вукашин Остојић | D19: 7 | E19: ДА | F19: Математичка гимназија | G19: Стари град | H19: Вишња Јовановић | I19: 19 | J19: 20 | K19: 20 | L19: 20 | M19: 20 | N19: =SUM(I19:M19) -> 99 | O19: II
A20: 6 | B20: 7183 | C20: Урош Костадиновић | D20: 7 | E20: ДА | F20: Математичка гимназија | G20: Стари град | H20: Вишња Јовановић | I20: 20 | J20: 19 | K20: 20 | L20: 20 | M20: 19 | N20: =SUM(I20:M20) -> 98 | O20: II
A21: 7 | B21: 7111 | C21: Марко Митић | D21: 7 | E21: ДА | F21: Математичка гимназија | G21: Београд | H21: Вишња Јовановић | I21: 20 | J21: 18 | K21: 20 | L21: 20 | M21: 18 | N21: =SUM(I21:M21) -> 96 | O21: III
A22: 8 | B22: 7037 | C22: Војислав Андрић | D22: 7 | E22: ДА | F22: Математичка гимназија | G22: Стари град | H22: Вишња Јовановић | I22: 10 | J22: 20 | K22: 20 | L22: 20 | M22: 17 | N22: =SUM(I22:M22) -> 87 | O22: III
A23: 9 | B23: 7034 | C23: Војин Митровић | D23: 7 | E23: ДА | F23: Математичка гимназија | G23: Београд | H23: Вишња Јовановић | I23: 4 | J23: 20 | K23: 20 | L23: 20 | M23: 20 | N23: =SUM(I23:M23) -> 84 | O23: III
A24: 10 | B24: 7148 | C24: Огњен Јанковић | D24: 7 | E24: ДА | F24: Математичка гимназија | G24: Београд | H24: Вишња Јовановић | I24: 2 | J24: 20 | K24: 20 | L24: 20 | M24: 20 | N24: =SUM(I24:M24) -> 82 | O24: III
A25: 11 | B25: 7142 | C25: Никола Минић | D25: 7 | E25: ДА | F25: Математичка гимназија | G25: Београд | H25: Вишња Јовановић | I25: 5 | J25: 20 | K25: 20 | L25: 13 | M25: 20 | N25: =SUM(I25:M25) -> 78 | O25: III
A26: 12 | B26: 7170 | C26: Софија Чебашек | D26: 7 | E26: ДА | F26: Математичка гимназија | G26: Београд | H26: Вишња Јовановић | I26: 14 | J26: 8 | K26: 15 | L26: 20 | M26: 20 | N26: =SUM(I26:M26) -> 77 | O26: III
A27: 13 | B27: 7144 | C27: Нина Андрејевић | D27: 7 | E27: ДА | F27: Математичка гимназија | G27: Стари град | H27: Вишња Јовановић | I27: 17 | J27: 14 | K27: 11 | L27: 13 | M27: 20 | N27: =SUM(I27:M27) -> 75 | O27: Похвала
... A31: 17 | B31: 7195 | C31: Лазар Јовић | D31: 7 | E31: ДА | F31: Математичка гимназија | G31: Стари град | H31: Вишња Јовановић | I31: 10 | J31: 0 | K31: 20 | L31: 20 | M31: 17 | N31: =SUM(I31:M31) -> 67 | O31: Похвала
A32: 18 | B32: 7025 | C32: Бојан Јовичић | D32: 7 | E32: ДА | F32: Математичка гимназија | G32: Београд | H32: Вишња Јовановић | I32: 2 | J32: 4 | K32: 20 | L32: 16 | M32: 20 | N32: =SUM(I32:M32) -> 62
A33: 19 | B33: 7199 | C33: Петар Ивковић | D33: 7 | E33: ДА | F33: Математичка гимназија | G33: Београд | H33: Вишња Јовановић | I33: 4 | J33: 3 | K33: 0 | L33: 20 | M33: 20 | N33: =SUM(I33:M33) -> 47
A34: 20 | B34: 7050 | C34: Димитрије Марић | D34: 7 | E34: ДА | F34: Математичка гимназија | G34: Београд | H34: Вишња Јовановић | I34: 5 | J34: 1 | K34: 6 | L34: 11 | M34: 18 | N34: =SUM(I34:M34) -> 41
A35: 21 | B35: 7132 | C35: Михајло Живановић | D35: 7 | E35: ДА | F35: Математичка гимназија | G35: Стари град | H35: Вишња Јовановић | I35: 6 | J35: 20 | K35: 0 | L35: 0 | M35: 8 | N35: =SUM(I35:M35) -> 34
A36: 22 | B36: 7090 | C36: Лазар Лојаница | D36: 7 | E36: ДА | F36: Математичка гимназија | G36: Београд | H36: Вишња Јовановић | I36: 0 | J36: 2 | K36: 2 | L36: 2 | M36: 10 | N36: =SUM(I36:M36) -> 16
A37: 23 | B37: 7192 | C37: Лазар Јовић | D37: 7 | E37: ДА | F37: Математичка гимназија | G37: Београд | H37: Вишња Јовановић | N37: =SUM(I37:M37) -> 0
A38: 24 | B38: 7193 | C38: Петар Ивковић | D38: 7 | E38: ДА | F38: Математичка гимназија | G38: Београд | H38: Вишња Јовановић | N38: =SUM(I38:M38) -> 0
A40: Основне школе
A42: 1 | B42: 7060 | C42: Ђорђе Пауновић | D42: 7 | E42: НЕ | F42: Карађорђе | G42: Вождовац | H42: Жељка Филић | I42: 20 | J42: 20 | K42: 20 | L42: 20 | M42: 20 | N42: 100 | O42: I
A43: 2 | B43: 7120 | C43: Миа Гмитровић | D43: 7 | E43: НЕ | F43: Павле Савић | G43: Звездара | H43: Драгослава Јекић | I43: 20 | J43: 18 | K43: 20 | L43: 20 | M43: 20 | N43: =SUM(I43:M43) -> 98 | O43: I
A44: 3 | B44: 7038 | C44: Вук Шећеровић | D44: 7 | E44: НЕ | F44: Ћирило и Методије | G44: Звездара | H44: Бранимир Стојиљковић | I44: 20 | J44: 14 | K44: 20 | L44: 20 | M44: 20 | N44: =SUM(I44:M44) -> 94 | O44: I
A45: 4 | B45: 7105 | C45: Љубица Ђорђевић Теодоровић | D45: 7 | E45: НЕ | F45: Јелена Ћетковић | G45: Звездара | H45: Љиљана Марковић | I45: 10 | J45: 20 | K45: 20 | L45: 20 | M45: 20 | N45: =SUM(I45:M45) -> 90 | O45: I
A46: 5 | B46: 7061 | C46: Ђорђе Васић | D46: 7 | E46: НЕ | F46: ОШ „Јован Поповић“ | G46: Палилула | H46: Снежана Косачевић | I46: 20 | J46: 14 | K46: 20 | L46: 17 | M46: 18 | N46: =SUM(I46:M46) -> 89 | O46: I
A47: 6 | B47: 7166 | C47: Софија Павлекић | D47: 7 | E47: НЕ | F47: Радоје Домановић | G47: Нови Београд | H47: Ранка Рајковић | I47: 20 | J47: 9 | K47: 20 | L47: 20 | M47: 20 | N47: =SUM(I47:M47) -> 89 | O47: I
A48: 7 | B48: 7072 | C48: Илија Саковић | D48: 7 | E48: НЕ | F48: ОШ ,,Јован Миодраговић” | G48: Врачар | H48: Мирјана Николић | I48: 20 | J48: 8.5 | K48: 20 | L48: 20 | M48: 20 | N48: =SUM(I48:M48) -> 88.5 | O48: I
A49: 8 | B49: 7019 | C49: Ања Вукмировић | D49: 7 | E49: НЕ | F49: Г. Принцип | G49: Земун | H49: Љиљана Милошевић | I49: 14 | J49: 14 | K49: 20 | L49: 20 | M49: 20 | N49: =SUM(I49:M49) -> 88 | O49: I
A50: 22 | B50: 7047 | C50: Давид Матић | D50: 7 | E50: НЕ | F50: Вук Караџић | G50: Стари град | H50: Драган Јовановић | I50: 10 | J50: 20 | K50: 20 | L50: 17 | M50: 18.5 | N50: =SUM(I50:M50) -> 85.5 | O50: I
A51: 9 | B51: 7004 | C51: Алекса Јоцковић | D51: 7 | E51: НЕ | F51: Радоје Домановић | G51: Нови Београд | H51: Ранка Рајковић | I51: 5 | J51: 20 | K51: 20 | L51: 20 | M51: 20 | N51: =SUM(I51:M51) -> 85 | O51: I
A52: 10 | B52: 7006 | C52: Алексеj Петровић | D52: 7 | E52: НЕ | F52: Милош Црњански | G52: Чукарица | H52: Ката Вулетић | I52: 11 | J52: 14 | K52: 20 | L52: 20 | M52: 20 | N52: =SUM(I52:M52) -> 85 | O52: I
A53: 11 | B53: 7087 | C53: Катарина Николић | D53: 7 | E53: НЕ | F53: Љуба Ненадовић | G53: Чукарица | H53: Ратко Кењић | I53: 5 | J53: 20 | K53: 20 | L53: 20 | M53: 20 | N53: =SUM(I53:M53) -> 85 | O53: I
A54: 12 | B54: 7119 | C54: Миа Вучетић | D54: 7 | E54: НЕ | F54: Ћирило и Методије | G54: Звездара | H54: Бранимир Стојиљковић | I54: 20 | J54: 5 | K54: 20 | L54: 20 | M54: 20 | N54: =SUM(I54:M54) -> 85 | O54: I
... A159: 118 | B159: 7180 | C159: Теодора Савић | D159: 7 | E159: НЕ | F159: Бранислав Нушић | G159: Вождовац | H159: Милица Ђекић | I159: 14 | J159: 0 | K159: 2 | L159: 4 | M159: 18 | N159: =SUM(I159:M159) -> 38 | O159: Похвала
A160: 119 | B160: 7146 | C160: Обрад Вуловић | D160: 7 | E160: НЕ | F160: Петар Петровић Његош | G160: Савски венац | H160: Светлана Кајтез | I160: 0 | J160: 1 | K160: 0 | L160: 20 | M160: 16 | N160: =SUM(I160:M160) -> 37
A161: 120 | B161: 7188 | C161: Филип Ивковић | D161: 7 | E161: НЕ | F161: ОШ ,,Јован Миодраговић” | G161: Врачар | H161: Мирјана Николић | I161: 0 | J161: 1.5 | K161: 1 | L161: 18 | M161: 16 | N161: =SUM(I161:M161) -> 36.5
A162: 121 | B162: 7048 | C162: Данило Ђоровић | D162: 7 | E162: НЕ | F162: „Иво Андрић“ | G162: Раковица | H162: Александра Поповић | I162: 2 | J162: 1 | K162: 2 | L162: 13 | M162: 18 | N162: =SUM(I162:M162) -> 36
A163: 122 | B163: 7143 | C163: Никола Николовски | D163: 7 | E163: НЕ | F163: Јајинци | G163: Вождовац | H163: Радован Ковачевић | I163: 2 | J163: 1 | K163: 2 | L163: 11 | M163: 20 | N163: =SUM(I163:M163) -> 36
A164: 123 | B164: 7176 | C164: Тамара Милић | D164: 7 | E164: НЕ | F164: ОШ "Свети Сава" | G164: Врачар | H164: Наташа Станић | I164: 0 | J164: 0 | K164: 3 | L164: 13 | M164: 20 | N164: =SUM(I164:M164) -> 36
A165: 124 | B165: 7003 | C165: Алекса Јојић | D165: 7 | E165: НЕ | F165: Милан Ђ. Милићевић | G165: Вождовац | H165: Снежана Дујаковић | I165: 0 | J165: 13 | K165: 2 | L165: 0 | M165: 20 | N165: =SUM(I165:M165) -> 35
A166: 125 | B166: 7194 | C166: Здравко Ћосић | D166: 7 | E166: НЕ | F166: Бановић Страхиња | G166: Београд | H166: Јован Тодоровић | I166: 5 | J166: 6.5 | K166: 1 | L166: 20 | M166: 2 | N166: =SUM(I166:M166) -> 34.5
A167: 126 | B167: 7041 | C167: Вукашин Јовановић | D167: 7 | E167: НЕ | F167: 20. октобар | G167: Нови Београд | H167: Маријета Ђаковић | I167: 0 | J167: 1 | K167: 2 | L167: 18.2 | M167: 13 | N167: =SUM(I167:M167) -> 34.2
A168: 127 | B168: 7065 | C168: Елена Тодоровић | D168: 7 | E168: НЕ | F168: Мика Антић | G168: Чукарица | H168: Наташа Мићевић | I168: 2 | J168: 1.5 | K168: 2 | L168: 12 | M168: 16 | N168: =SUM(I168:M168) -> 33.5
A169: 128 | B169: 7023 | C169: Богдан Грубић | D169: 7 | E169: НЕ | F169: „14.октобар“ | G169: Раковица | H169: Ивана Радевић | I169: 5 | J169: 13 | K169: 2 | L169: 1 | M169: 12 | N169: =SUM(I169:M169) -> 33
A170: 129 | B170: 7007 | C170: Ана Кнежевић | D170: 7 | E170: НЕ | F170: Ђуро Стругар | G170: Нови Београд | H170: Зоран Дивац | I170: 0 | J170: 1 | K170: 6 | L170: 5 | M170: 20 | N170: =SUM(I170:M170) -> 32
A171: 130 | B171: 7109 | C171: Марија Хаџи-Павловић | D171: 7 | E171: НЕ | F171: Марко Орешковић | G171: Нови Београд | H171: Игор Димитријевић | I171: 7 | J171: 1 | K171: 1 | L171: 4 | M171: 18 | N171: =SUM(I171:M171) -> 31
... A207: 166 | B207: 7031 | C207: Василије Павловић | D207: 7 | E207: НЕ | F207: Дринка Павловић | G207: Стари град | H207: Ивана Томић | I207: 2 | J207: 0 | K207: 2 | L207: 4 | M207: 0 | N207: =SUM(I207:M207) -> 8
A208: 167 | B208: 7002 | C208: Адријан Сарајлић | D208: 7 | E208: НЕ | F208: Стефан Немања | G208: Савски венац | H208: Тања Тинтор | N208: =SUM(I208:M208) -> 0
A209: 168 | B209: 7013 | C209: Андреј Нина | D209: 7 | E209: НЕ | F209: 20. октобар | G209: Нови Београд | H209: Маријета Ђаковић | N209: =SUM(I209:M209) -> 0
A210: 169 | B210: 7039 | C210: Вукан Секулић | D210: 7 | E210: НЕ | F210: Младост | G210: Нови Београд | H210: Слађан Игњатовић | N210: =SUM(I210:M210) -> 0
A211: 170 | B211: 7091 | C211: Лана Матић | D211: 7 | E211: НЕ | F211: Момчило Живојиновић | G211: Младеновац | H211: Биљана Цесарац | N211: =SUM(I211:M211) -> 0
A212: 171 | B212: 7099 | C212: Лука Костић | D212: 7 | E212: НЕ | F212: ОШ"Дуле Караклајић" | G212: Лазаревац | H212: Јасмина Стевановић | N212: =SUM(I212:M212) -> 0
A213: 172 | B213: 7128 | C213: Милица Спасић | D213: 7 | E213: НЕ | F213: ООШ "Владислав Рибникар" | G213: Врачар | H213: Ивана Вукасовић | N213: =SUM(I213:M213) -> 0
A214: 173 | B214: 7182 | C214: Урош Јаћевић | D214: 7 | E214: НЕ | F214: Бановић Страхиња | G214: Чукарица | H214: Јован Тодоровић | N214: =SUM(I214:M214) -> 0
A215: 174 | B215: 7186 | C215: Федор Вуксановић | D215: 7 | E215: НЕ | F215: Филип Филиповић | G215: Вождовац | H215: Нада Јојић | N215: =SUM(I215:M215) -> 0

Sheet 8.разред
A6: 8. разред
A10: Редни | B10: ШИФРА | C10: ИМЕ И ПРЕЗИМЕ | D10: РАЗРЕД | E10: Посебно одељење | F10: ШКОЛА | G10: ОПШТИНА | H10: ПРЕДМЕТНИ | I10: Зад 1 | J10: Зад 2 | K10: Зад 3 | L10: Зад 4 | M10: Зад 5 | N10: Укупно | O10: Награда
A11: број | C11: УЧЕНИКА | H11: НАСТАВНИК | N11: бодова
A13: Основне школе
A15: 1 | B15: 8005 | C15: Александар Манојловић | D15: 8 | E15: НЕ | F15: „Франце Прешерн“ | G15: Раковица | H15: Јелисавета Хрњаковић | I15: 20 | J15: 20 | K15: 20 | L15: 20 | M15: 20 | N15: =SUM(I15:M15) -> 100 | O15: I
A16: 2 | B16: 8023 | C16: Данило Грбић | D16: 8 | E16: НЕ | F16: Лаза Костић | G16: Нови Београд | H16: Ђорђе Ћипаризовић | I16: 20 | J16: 20 | K16: 20 | L16: 17 | M16: 10 | N16: =SUM(I16:M16) -> 87 | O16: I
A17: 3 | B17: 8031 | C17: Дуња Суботић | D17: 8 | E17: НЕ | F17: С. Маринковић | G17: Земун | H17: Мирјана Кисјелица | I17: 20 | J17: 20 | K17: 20 | L17: 4 | M17: 20 | N17: =SUM(I17:M17) -> 84 | O17: I
A18: 4 | B18: 8119 | C18: Соња Стојановић | D18: 8 | E18: НЕ | F18: Дринка Павловић | G18: Стари град | H18: Ивана Томић | I18: 20 | J18: 20 | K18: 19 | L18: 3 | M18: 20 | N18: =SUM(I18:M18) -> 82 | O18: I
A19: 5 | B19: 8045 | C19: Јана Ломић | D19: 8 | E19: НЕ | F19: 20. октобар | G19: Нови Београд | H19: Маријета Ђаковић | I19: 20 | J19: 20 | K19: 18 | L19: 2 | M19: 20 | N19: =SUM(I19:M19) -> 80 | O19: I
A20: 6 | B20: 8059 | C20: Лазар Стојадиновић | D20: 8 | E20: НЕ | F20: Јован Јовановић Змај | G20: Обреновац | H20: Никола Стевановић | I20: 20 | J20: 19 | K20: 20 | L20: 1 | M20: 20 | N20: =SUM(I20:M20) -> 80 | O20: I
A21: 7 | B21: 8112 | C21: Павле Бугарски | D21: 8 | E21: НЕ | F21: Јован Јовановић Змај | G21: Обреновац | H21: Драган Мандушић | I21: 20 | J21: 20 | K21: 15 | L21: 4 | M21: 20 | N21: =SUM(I21:M21) -> 79 | O21: I
A22: 8 | B22: 8122 | C22: Стефанија Живановић | D22: 8 | E22: НЕ | F22: Дринка Павловић | G22: Стари град | H22: Ивана Томић | I22: 20 | J22: 20 | K22: 18 | L22: 1 | M22: 20 | N22: =SUM(I22:M22) -> 79 | O22: I
A23: 9 | B23: 8050 | C23: Катарина Ђуричић | D23: 8 | E23: НЕ | F23: Б. Радичевић | G23: Земун | H23: Љубинка Павловић | I23: 20 | J23: 17 | K23: 20 | L23: 1 | M23: 20 | N23: =SUM(I23:M23) -> 78 | O23: I
A24: 10 | B24: 8126 | C24: Теодора Сајић | D24: 8 | E24: НЕ | F24: ОШ „Милена Павловић Барили“ | G24: Палилула | H24: Љиљана Пајовић Јовановић | I24: 20 | J24: 20 | K24: 15 | L24: 2 | M24: 20 | N24: =SUM(I24:M24) -> 77 | O24: II
A25: 11 | B25: 8070 | C25: Маја Митић | D25: 8 | E25: НЕ | F25: Радоје Домановић | G25: Нови Београд | H25: Александар Јовановић | I25: 20 | J25: 20 | K25: 15 | L25: 1 | M25: 20 | N25: =SUM(I25:M25) -> 76 | O25: II
A26: 12 | B26: 8096 | C26: Михаило Јанчевић | D26: 8 | E26: НЕ | F26: Раде Кончар | G26: Земун | H26: Сибела Минић | I26: 20 | J26: 20 | K26: 14 | L26: 1 | M26: 20 | N26: =SUM(I26:M26) -> 75 | O26: II
... A89: 75 | B89: 8099 | C89: Нађа Радошевић | D89: 8 | E89: НЕ | F89: Вук Караџић | G89: Стари град | H89: Драган Јовановић | I89: 15 | J89: 2 | K89: 4 | L89: 2 | M89: 20 | N89: =SUM(I89:M89) -> 43 | O89: Похвала
A90: 76 | B90: 8027 | C90: Димитрије Момић | D90: 8 | E90: НЕ | F90: Марко Орешковић | G90: Нови Београд | H90: Игор Димитријевић | I90: 5 | J90: 2 | K90: 10 | L90: 4 | M90: 20 | N90: =SUM(I90:M90) -> 41
A91: 77 | B91: 8084 | C91: Милица Величковић | D91: 8 | E91: НЕ | F91: Ђура Даничић | G91: Вождовац | H91: Јелена Ристановић | I91: 20 | J91: 0 | K91: 11 | L91: 0 | M91: 10 | N91: =SUM(I91:M91) -> 41
A92: 78 | B92: 8129 | C92: Урош Петровић | D92: 8 | E92: НЕ | F92: ОШ «Светозар Марковић» | G92: Врачар | H92: Жељка Клус | I92: 20 | J92: 0 | K92: 11 | L92: 0 | M92: 10 | N92: =SUM(I92:M92) -> 41
A93: 79 | B93: 8131 | C93: Валентина Брзић | D93: 8 | E93: НЕ | F93: Ђура Даничић | G93: Вождовац | H93: Јелена Ристановић | I93: 20 | J93: 4 | K93: 7 | L93: 0 | M93: 10 | N93: =SUM(I93:M93) -> 41
A94: 80 | B94: 8013 | C94: Ања Радошевић | D94: 8 | E94: НЕ | F94: Вук Караџић | G94: Стари град | H94: Драган Јовановић | I94: 20 | J94: 0 | K94: 8 | L94: 2 | M94: 10 | N94: =SUM(I94:M94) -> 40
A95: 81 | B95: 8041 | C95: Илија Солдо | D95: 8 | E95: НЕ | F95: ОШ"НХ Синиша Николајевић" | G95: Врачар | H95: Данијела Маринчев | I95: 20 | J95: 10 | K95: 0 | L95: 0 | M95: 10 | N95: =SUM(I95:M95) -> 40
A96: 82 | B96: 8098 | C96: Михајло Савић | D96: 8 | E96: НЕ | F96: Скадарлија | G96: Стари град | H96: Драгана Пиваш | I96: 19 | J96: 0 | K96: 10 | L96: 1 | M96: 10 | N96: =SUM(I96:M96) -> 40
A97: 83 | B97: 8025 | C97: Даница Милановић | D97: 8 | E97: НЕ | F97: „Бранко Ћопић“ | G97: Раковица | H97: Југослав Секулић | I97: 5 | J97: 0 | K97: 11 | L97: 4 | M97: 19 | N97: =SUM(I97:M97) -> 39
A98: 84 | B98: 8088 | C98: Милица Трнинић | D98: 8 | E98: НЕ | F98: „Иво Андрић“ | G98: Раковица | H98: Александра Поповић | I98: 20 | J98: 8 | K98: 6 | L98: 1 | M98: 4 | N98: =SUM(I98:M98) -> 39
A99: 85 | B99: 8064 | C99: Лука Граховац | D99: 8 | E99: НЕ | F99: Михајло Пупин | G99: Земун | H99: Љубинка Павловић | I99: 20 | J99: 0 | K99: 8 | L99: 0 | M99: 10 | N99: =SUM(I99:M99) -> 38
A100: 86 | B100: 8118 | C100: Соња Николић | D100: 8 | E100: НЕ | F100: Јанко Веселиновић | G100: Вождовац | H100: Дејан Јовановић | I100: 10 | J100: 0 | K100: 8 | L100: 10 | M100: 10 | N100: =SUM(I100:M100) -> 38
A101: 87 | B101: 8033 | C101: Душан Илинчић | D101: 8 | E101: НЕ | F101: Петар Кочић | G101: Земун | H101: Ива Вулић | I101: 20 | J101: 0 | K101: 6 | L101: 0 | M101: 10 | N101: =SUM(I101:M101) -> 36
... A117: 103 | B117: 8030 | C117: Драгослав Митровић | D117: 8 | E117: НЕ | F117: Браћа Барух | G117: Стари град | H117: Милица Мирковић | I117: 5 | J117: 0 | K117: 0 | L117: 2 | M117: 0 | N117: =SUM(I117:M117) -> 7
A118: 104 | B118: 8019 | C118: Бошко Кукањац | D118: 8 | E118: НЕ | F118: „Франце Прешерн“ | G118: Раковица | H118: Јелисавета Хрњаковић | N118: =SUM(I118:M118) -> 0
A119: 105 | B119: 8036 | C119: Емилија Дивац | D119: 8 | E119: НЕ | F119: Мајка Југовића | G119: Земун | H119: Марија Паројчић | N119: =SUM(I119:M119) -> 0
A120: 106 | B120: 8075 | C120: Марко Марински | D120: 8 | E120: НЕ | F120: Вук Караџић | G120: Стари град | H120: Драган Јовановић | N120: =SUM(I120:M120) -> 0
A121: 107 | B121: 8094 | C121: Миодраг Илић | D121: 8 | E121: НЕ | F121: Бранко Радичевић | G121: Нови Београд | H121: Зоран Алексић | N121: =SUM(I121:M121) -> 0
A123: Математичка гимназија
A125: 1 | B125: 8083 | C125: Мила Миленић | D125: 8 | E125: ДА | F125: Математичка гимназија | G125: Београд | H125: Вишња Јовановић | I125: 20 | J125: 20 | K125: 20 | L125: 20 | M125: 20 | N125: =SUM(I125:M125) -> 100 | O125: I
A126: 2 | B126: 8130 | C126: Филип Марковић | D126: 8 | E126: ДА | F126: Математичка гимназија | G126: Београд | H126: Вишња Јовановић | I126: 20 | J126: 20 | K126: 20 | L126: 20 | M126: 20 | N126: =SUM(I126:M126) -> 100 | O126: I
A127: 3 | B127: 8121 | C127: Стеван Радивојевић | D127: 8 | E127: ДА | F127: Математичка гимназија | G127: Београд | H127: Вишња Јовановић | I127: 19 | J127: 20 | K127: 20 | L127: 20 | M127: 20 | N127: =SUM(I127:M127) -> 99 | O127: I
A128: 4 | B128: 8048 | C128: Јован Милићев | D128: 8 | E128: ДА | F128: Математичка гимназија | G128: Београд | H128: Вишња Јовановић | I128: 20 | J128: 20 | K128: 20 | L128: 4 | M128: 20 | N128: =SUM(I128:M128) -> 84 | O128: II
A129: 5 | B129: 8061 | C129: Лана Дерманов | D129: 8 | E129: ДА | F129: Математичка гимназија | G129: Београд | H129: Вишња Јовановић | I129: 20 | J129: 20 | K129: 20 | L129: 8 | M129: 15 | N129: =SUM(I129:M129) -> 83 | O129: II
A130: 6 | B130: 8123 | C130: Тадеј Ристић | D130: 8 | E130: ДА | F130: Математичка гимназија | G130: Београд | H130: Вишња Јовановић | I130: 20 | J130: 20 | K130: 20 | L130: 3 | M130: 20 | N130: =SUM(I130:M130) -> 83 | O130: II
A131: 7 | B131: 8009 | C131: Андреј Момчиловић | D131: 8 | E131: ДА | F131: Математичка гимназија | G131: Београд | H131: Вишња Јовановић | I131: 20 | J131: 20 | K131: 20 | L131: 2 | M131: 20 | N131: =SUM(I131:M131) -> 82 | O131: II
A132: 8 | B132: 8069 | C132: Маја Јованић | D132: 8 | E132: ДА | F132: Математичка гимназија | G132: Београд | H132: Вишња Јовановић | I132: 18 | J132: 20 | K132: 20 | L132: 8 | M132: 16 | N132: =SUM(I132:M132) -> 82 | O132: II
A133: 9 | B133: 8076 | C133: Марко Попадић | D133: 8 | E133: ДА | F133: Математичка гимназија | G133: Београд | H133: Вишња Јовановић | I133: 20 | J133: 20 | K133: 18 | L133: 4 | M133: 20 | N133: =SUM(I133:M133) -> 82 | O133: II
A134: 10 | B134: 8038 | C134: Иван Митровић | D134: 8 | E134: ДА | F134: Математичка гимназија | G134: Београд | H134: Вишња Јовановић | I134: 20 | J134: 20 | K134: 15 | L134: 4 | M134: 20 | N134: =SUM(I134:M134) -> 79 | O134: III
A135: 11 | B135: 8046 | C135: Јана Шишовић | D135: 8 | E135: ДА | F135: Математичка гимназија | G135: Београд | H135: Вишња Јовановић | I135: 20 | J135: 20 | K135: 15 | L135: 3 | M135: 20 | N135: =SUM(I135:M135) -> 78 | O135: III
A136: 12 | B136: 8034 | C136: Душан Николић | D136: 8 | E136: ДА | F136: Математичка гимназија | G136: Београд | H136: Вишња Јовановић | I136: 20 | J136: 20 | K136: 15 | L136: 2 | M136: 20 | N136: =SUM(I136:M136) -> 77 | O136: III
... A143: 19 | B143: 8039 | C143: Иван Ристовић | D143: 8 | E143: ДА | F143: Математичка гимназија | G143: Београд | H143: Вишња Јовановић | I143: 20 | J143: 8 | K143: 10 | L143: 2 | M143: 20 | N143: =SUM(I143:M143) -> 60 | O143: Похвала
A144: 20 | B144: 8011 | C144: Анђелија Ђукановић | D144: 8 | E144: ДА | F144: Математичка гимназија | G144: Београд | H144: Вишња Јовановић | I144: 10 | J144: 7 | K144: 10 | L144: 10 | M144: 20 | N144: =SUM(I144:M144) -> 57
A145: 21 | B145: 8087 | C145: Милица Милошевић | D145: 8 | E145: ДА | F145: Математичка гимназија | G145: Београд | H145: Вишња Јовановић | I145: 20 | J145: 10 | K145: 12 | L145: 5 | M145: 10 | N145: =SUM(I145:M145) -> 57
A146: 22 | B146: 8063 | C146: Лена Перишић | D146: 8 | E146: ДА | F146: Математичка гимназија | G146: Београд | H146: Вишња Јовановић | I146: 20 | J146: 0 | K146: 10 | L146: 2 | M146: 10 | N146: =SUM(I146:M146) -> 42
A147: 23 | B147: 8117 | C147: Селена Токовић | D147: 8 | E147: ДА | F147: Математичка гимназија | G147: Београд | H147: Вишња Јовановић | I147: 20 | J147: 2 | K147: 12 | L147: 2 | M147: 3 | N147: =SUM(I147:M147) -> 39
A148: 24 | B148: 8024 | C148: Данило Окановић | D148: 8 | E148: ДА | F148: Математичка гимназија | G148: Београд | H148: Вишња Јовановић | I148: 20 | J148: 0 | K148: 2 | L148: 3 | M148: 10 | N148: =SUM(I148:M148) -> 35
A149: 25 | B149: 8113 | C149: Реља Кукић | D149: 8 | E149: ДА | F149: Математичка гимназија | G149: Београд | H149: Вишња Јовановић | I149: 20 | J149: 0 | K149: 3 | L149: 2 | M149: 10 | N149: =SUM(I149:M149) -> 35
A150: 26 | B150: 8032 | C150: Душан Видојевић | D150: 8 | E150: ДА | F150: Математичка гимназија | G150: Београд | H150: Вишња Јовановић | N150: =SUM(I150:M150) -> 0

Sheet Sheet4
A5: ОКРУЖНО ТАКМИЧЕЊЕ УЧЕНИКА VI, VII и VII разреда
A6: ОСНОВНИХ ШКОЛА БЕОГРАДА
A7: ИЗ ФИЗИКЕ
A10: Редни | B10: ШИФРА | C10: ИМЕ И ПРЕЗИМЕ | D10: РАЗРЕД | E10: Посебно одељење | F10: ШКОЛА | G10: ОПШТИНА | H10: ПРЕДМЕТНИ | I10: Зад 1 | J10: Зад 2 | K10: Зад 3 | L10: Зад 4 | M10: Зад 5 | N10: Укупно | O10: НАПОМЕНА | P10: БРОЈ УЧИОНИЦЕ | Q10: РАДНО МЕСТО
A11: број | C11: УЧЕНИКА | H11: НАСТАВНИК | N11: бодова
A13: 114 | B13: 6001 | C13: Aндреј Илић | D13: 6 | E13: НЕ | F13: Веселин Маслеша | G13: Вождовац | H13: Љубица Вучић | P13: 9 | Q13: 12
A14: 39 | B14: 6002 | C14: Алекса Ђелмаш | D14: 6 | E14: НЕ | F14: Душко Радовић | G14: Чукарица | H14: Милка Гогић | P14: 18 | Q14: 3
A15: 124 | B15: 6003 | C15: Алекса Лазић | D15: 6 | E15: НЕ | F15: „Никола Тесла“ | G15: Раковица | H15: Весна Манић | P15: 19 | Q15: 11
A16: 93 | B16: 6004 | C16: Алекса Солдо | D16: 6 | E16: НЕ | F16: Надежда Петровић | G16: Нови Београд | H16: Александра Стефановић | P16: 9 | Q16: 10
A17: 188 | B17: 6005 | C17: Александар В. Весић | D17: 6 | E17: НЕ | F17: Доситеј Обрадовић | G17: Чукарица | H17: Зорица Теохаревић | P17: 2 | Q17: 20
A18: 110 | B18: 6006 | C18: Александар Николић | D18: 6 | E18: НЕ | F18: Милош Црњански | G18: Чукарица | H18: Ката Вулетић | P18: 5 | Q18: 12
A19: 179 | B19: 6007 | C19: Алексеј Ристић | D19: 6 | E19: НЕ | F19: Филип Филиповић | G19: Вождовац | H19: Нада Јојић | P19: 13 | Q19: 17
A20: 3 | B20: 6008 | C20: Алексеј Стевановић | D20: 6 | E20: НЕ | F20: Краљ Петар Први | G20: Стари град | H20: Станислав Миловановић | P20: 3 | Q20: 1
A21: 248 | B21: 6009 | C21: Ана Комлен | D21: 6 | E21: НЕ | F21: „Франце Прешерн“ | G21: Раковица | H21: Јелисавета Хрњаковић | P21: 1 | Q21: 27
A22: 87 | B22: 6010 | C22: Ана Марић | D22: 6 | E22: НЕ | F22: Јован Дучић | G22: Нови Београд | H22: Анђа Поповић | P22: 3 | Q22: 10
A23: 106 | B23: 6011 | C23: Ана Станковић | D23: 6 | E23: НЕ | F23: Павле Савић | G23: Звездара | H23: Драгослава Јекић | P23: 1 | Q23: 12
A24: 265 | B24: 6012 | C24: Анастасиа Николић | D24: 6 | E24: НЕ | F24: Исидора Секулић | G24: Савски венац | H24: Игор Димитријевић | P24: 5 | Q24: 29
... A175: 197 | B175: 6163 | C175: Милица Драшковић | D175: 6 | E175: НЕ | F175: Доситеј Обрадовић | G175: Чукарица | H175: Зорица Теохаревић | P175: 13 | Q175: 20
A176: 173 | B176: 6164 | C176: Милош Мандић | D176: 6 | E176: НЕ | F176: Бранко Радичевић | G176: Нови Београд | H176: Зоран Алексић | P176: 6 | Q176: 17 | X176: =13*15 -> 195
A177: 98 | B177: 6165 | C177: Милош Петровић | D177: 6 | E177: НЕ | F177: Драган Лукић | G177: Нови Београд | H177: Јелена Латас | P177: 14 | Q177: 18 | X177: =3*8 -> 24
A178: 261 | B178: 6166 | C178: Милош Радивојевић | D178: 6 | E178: НЕ | F178: Свети Сава | G178: Младеновац | H178: Ксенија Кезић Кањевац | P178: 18 | Q178: 27 | X178: =2*10 -> 20
A179: 234 | B179: 6167 | C179: Милош Стевановић | D179: 6 | E179: НЕ | F179: „Франце Прешерн“ | G179: Раковица | H179: Јелисавета Хрњаковић | P179: 1 | Q179: 25 | X179: 12
A180: 274 | B180: 6168 | C180: Милутин Камаљевић | D180: 6 | E180: НЕ | F180: Ђура Даничић | G180: Вождовац | H180: Јелена Ристановић | P180: 17 | Q180: 29 | X180: 17
A181: 50 | B181: 6169 | C181: Милутин Пашић | D181: 6 | E181: НЕ | F181: ОШ „Јован Поповић“ | G181: Палилула | H181: Снежана Косачевић | P181: 8 | Q181: 5 | X181: 9
A182: 126 | B182: 6170 | C182: Миона Мисовић | D182: 6 | E182: НЕ | F182: „Бранко Ћопић“ | G182: Раковица | H182: Адриан Варга | P182: 21 | Q182: 11
A183: 80 | B183: 6171 | C183: Михаило Алексић | D183: 6 | E183: НЕ | F183: Борислав Пекић | G183: Нови Београд | H183: Братислав Јовановић | P183: 17 | Q183: 8
A184: 204 | B184: 6172 | C184: Михајло Кукић | D184: 6 | E184: НЕ | F184: Браћа Барух | G184: Стари град | H184: Милица Мирковић | P184: 1 | Q184: 22
A185: 136 | B185: 6173 | C185: Михајло Стошић | D185: 6 | E185: НЕ | F185: Браће Јерковић | G185: Чукарица | H185: Саша Пеневски | P185: 10 | Q185: 26
A186: 254 | B186: 6174 | C186: Нађа Босанац | D186: 6 | E186: НЕ | F186: Павле Савић | G186: Звездара | H186: Драгослава Јекић | P186: 8 | Q186: 27
A187: 247 | B187: 6175 | C187: Нађа Вукотић | D187: 6 | E187: НЕ | F187: Змај Јова Јовановић | G187: Вождовац | H187: Жељко Урошевић | P187: 18 | Q187: 25
A188: 127 | B188: 6176 | C188: Нађа Митровић | D188: 6 | E188: НЕ | F188: „Бранко Ћопић“ | G188: Раковица | H188: Југослав Секулић | P188: 1 | Q188: 13
A189: 15 | B189: 6177 | C189: Нађа Петровић | D189: 6 | E189: НЕ | F189: Драган Лукић | G189: Нови Београд | H189: Јелена Латас | P189: 15 | Q189: 1
A190: 92 | B190: 6178 | C190: Нађа Ракић | D190: 6 | E190: НЕ | F190: Марко Орешковић | G190: Нови Београд | H190: Игор Димитријевић | P190: 8 | Q190: 10
A191: 176 | B191: 6179 | C191: Настасија Јовановић | D191: 6 | E191: НЕ | F191: Мајка Југовића | G191: Земун | H191: Марија Паројчић | P191: 9 | Q191: 17
A192: 219 | B192: 6180 | C192: Наталија Живковић | D192: 6 | E192: НЕ | F192: Јелена Ћетковић | G192: Звездара | H192: Весна Тодоровић Ристић | P192: 1 | Q192: 24
A193: 171 | B193: 6181 | C193: Невена Стефановић | D193: 6 | E193: НЕ | F193: Младост | G193: Нови Београд | H193: Снежана Ивановић | P193: 3 | Q193: 17
... A270: 233 | B270: 6258 | C270: Страхиња Никодијевић | D270: 6 | E270: НЕ | F270: Ђура Даничић | G270: Вождовац | H270: Јелена Ристановић | P270: 21 | Q270: 24
A271: 201 | B271: 6259 | C271: Тадија Плећаш | D271: 6 | E271: НЕ | F271: Милош Црњански | G271: Чукарица | H271: Ката Вулетић | P271: 18 | Q271: 20 | U271: 8 | V271: 21 | W271: =U271*V271 -> 168
A272: 246 | B272: 6260 | C272: Тамара Арсовић | D272: 6 | E272: НЕ | F272: Доситеј Обрадовић | G272: Чукарица | H272: Зорица Теохаревић | P272: 17 | Q272: 25 | U272: 2 | V272: 18 | W272: =U272*V272 -> 36
A273: 85 | B273: 6261 | C273: Тамара Стошић | D273: 6 | E273: НЕ | F273: Душко Радовић | G273: Нови Београд | H273: Маја Мутић | P273: 1 | Q273: 10 | U273: 2 | V273: 16 | W273: =U273*V273 -> 32
A274: 148 | B274: 6262 | C274: Тара Лукић | D274: 6 | E274: НЕ | F274: Филип Кљајић Фића | G274: Чукарица | H274: Јован Лазић | P274: 1 | Q274: 15 | U274: 3 | V274: 13 | W274: =U274*V274 -> 39
A275: 253 | B275: 6263 | C275: Тара Рајшић | D275: 6 | E275: НЕ | F275: Павле Савић | G275: Звездара | H275: Драгослава Јекић | P275: 7 | Q275: 27
A276: 186 | B276: 6264 | C276: Тара Салом | D276: 6 | E276: НЕ | F276: 20. октобар | G276: Нови Београд | H276: Маријета Ђаковић | P276: 21 | Q276: 17
A277: 230 | B277: 6265 | C277: Татјана Лаловић | D277: 6 | E277: НЕ | F277: Филип Кљајић Фића | G277: Чукарица | H277: Јован Лазић | P277: 16 | Q277: 24
A278: 107 | B278: 6266 | C278: Теодора Дацић | D278: 6 | E278: НЕ | F278: Доситеј Обрадовић | G278: Чукарица | H278: Зорица Теохаревић | P278: 2 | Q278: 12
A279: 228 | B279: 6267 | C279: Теодора Мићић | D279: 6 | E279: НЕ | F279: Доситеј Обрадовић | G279: Чукарица | H279: Зорица Теохаревић | P279: 13 | Q279: 24
A280: 134 | B280: 6268 | C280: Теодора Петровић | D280: 6 | E280: НЕ | F280: Михајло Пупин | G280: Земун | H280: Мирјана Бањац | P280: 8 | Q280: 13
A281: 169 | B281: 6269 | C281: Теодора Шева | D281: 6 | E281: НЕ | F281: Лаза Костић | G281: Нови Београд | H281: Ђорђе Ћипаризовић | P281: 1 | Q281: 17
A282: 1 | B282: 6270 | C282: Тодорa Јанковић | D282: 6 | E282: НЕ | F282: Вук Караџић | G282: Стари град | H282: Драган Јовановић | P282: 1 | Q282: 1
A283: 227 | B283: 6271 | C283: Уна Јованић | D283: 6 | E283: НЕ | F283: Ћилило и Методије | G283: Звездара | H283: Бранимир Стојиљковић | P283: 12 | Q283: 24
A284: 54 | B284: 6272 | C284: Урош Николетић | D284: 6 | E284: НЕ | F284: Вук Караџић | G284: Стари град | H284: Драган Јовановић | P284: 12 | Q284: 5
A285: 150 | B285: 6273 | C285: Урош Туркуљ | D285: 6 | E285: НЕ | F285: ОШ „Јован Ристић“ | G285: Палилула | H285: Босиљка Живановић | P285: 3 | Q285: 15 | AS285: =13*8 -> 104
A286: 213 | B286: 6274 | C286: УРОШ ШТУЛИЋ | D286: 6 | E286: НЕ | F286: СТЕВАН СРЕМАЦ | G286: ДОБАНОВЦИ | H286: ЉУБОДРАГ БОГАВАЦ | P286: 13 | Q286: 22 | AS286: 45
A287: 91 | B287: 6275 | C287: Филип Игњатовић | D287: 6 | E287: НЕ | F287: Лаза Костић | G287: Нови Београд | H287: Ђорђе Ћипаризовић | P287: 7 | Q287: 10 | AS287: 20
A288: 210 | B288: 6276 | C288: Филип Чворовић | D288: 6 | E288: НЕ | F288: Мајка Југовића | G288: Земун | H288: Марија Паројчић | P288: 8 | Q288: 22 | AS288: 10
A289: 12 | B289: 6277 | C289: Филип Шумић | D289: 6 | E289: НЕ | F289: Радоје Домановић | G289: Нови Београд | H289: Ранка Рајковић | P289: 12 | Q289: 1 | AS289: 11
A290: 164 | B290: 6278 | C290: Хана Мириловић | D290: 6 | E290: НЕ | F290: Ј. Миловановић | G290: Сопот | H290: Гордана Бојат | P290: 17 | Q290: 15
A291: 428 | B291: 7001 | C291: Lukas Myeller | D291: 7 | E291: НЕ | F291: Краљ Петар Први | G291: Стари град | H291: Станислав Миловановић | P291: 7 | Q291: 30 | AS291: =SUM(AS285:AS289) -> 190
A292: 403 | B292: 7002 | C292: Адријан Сарајлић | D292: 7 | E292: НЕ | F292: Стефан Немања | G292: Савски венац | H292: Тања Тинтор | P292: 1 | Q292: 26
A293: 333 | B293: 7003 | C293: Алекса Јојић | D293: 7 | E293: НЕ | F293: Милан Ђ. Милићевић | G293: Вождовац | H293: Снежана Дујаковић | P293: 13 | Q293: 9
A294: 284 | B294: 7004 | C294: Алекса Јоцковић | D294: 7 | E294: НЕ | F294: Радоје Домановић | G294: Нови Београд | H294: Ранка Рајковић | P294: 6 | Q294: 2
A295: 459 | B295: 7005 | C295: Алекса Пажин | D295: 7 | E295: НЕ | F295: Младост | G295: Нови Београд | H295: Слађан Игњатовић | P295: 10 | Q295: 24
A296: 293 | B296: 7006 | C296: Алексеj Петровић | D296: 7 | E296: НЕ | F296: Милош Црњански | G296: Чукарица | H296: Ката Вулетић | P296: 15 | Q296: 2
A297: 418 | B297: 7007 | C297: Ана Кнежевић | D297: 7 | E297: НЕ | F297: Ђуро Стругар | G297: Нови Београд | H297: Зоран Дивац | P297: 17 | Q297: 26
A298: 421 | B298: 7008 | C298: Ана Љушић | D298: 7 | E298: НЕ | F298: Младост | G298: Нови Београд | H298: Слађан Игњатовић | P298: 21 | Q298: 15
A299: 286 | B299: 7009 | C299: Ана Пејић | D299: 7 | E299: НЕ | F299: С. Маринковић | G299: Земун | H299: Мирјана Кисјелица | P299: 8 | Q299: 2
A300: 306 | B300: 7010 | C300: Ана Петровић | D300: 7 | E300: НЕ | F300: Јован Стерија Поповић | G300: Нови Београд | H300: Радојка Чупић | P300: 7 | Q300: 6
A301: 356 | B301: 7011 | C301: Анастасија Лена Дакић | D301: 7 | E301: НЕ | F301: Војвода Радомир Путник | G301: Савски венац | H301: Ана Босанац | P301: 15 | Q301: 14
A302: 413 | B302: 7012 | C302: Андреј Јовић | D302: 7 | E302: НЕ | F302: Илија Гарашанин | G302: Гроцка | H302: Милева Атанасковић | P302: 12 | Q302: 26
A303: 445 | B303: 7013 | C303: Андреј Нина | D303: 7 | E303: НЕ | F303: 20. октобар | G303: Нови Београд | H303: Маријета Ђаковић | P303: 20 | Q303: 18
... A611: 504 | B611: 8130 | C611: Филип Марковић | D611: 8 | E611: ДА | F611: Математичка гимназија | G611: Београд | H611: Вишња Јовановић | P611: 15 | Q611: 7
