Workbook

Sheet Списак уч. по учионицама
A1: Домаћин: ОШ "Бановић Страхиња"
A5: ГРАДСКО ТАКМИЧЕЊЕ УЧЕНИКА VI, VII и VIII разреда
A6: ОСНОВНИХ ШКОЛА БЕОГРАДА ИЗ ФИЗИКЕ
A7: 14. 3. 2020.
A9: РЕДНИ | B9: ШИФРА | C9: ИМЕ И ПРЕЗИМЕ | D9: РАЗРЕД | E9: ПОСЕБНО ОДЕЉЕЊЕ | F9: ШКОЛА | G9: ОПШТИНА | H9: ПРЕДМЕТНИ | I9: БРОЈ | J9: НАПОМЕНА | K9: БРОЈ УЧИОНИЦЕ | L9: РАДНО МЕСТО
A10: БРОЈ | C10: УЧЕНИКА | H10: НАСТАВНИК | I10: БОДОВА
A12: 1 | C12: Тодорa Јанковић | D12: 6 | E12: НЕ | F12: Вук Караџић | G12: Стари град | H12: Драган Јовановић | K12: 1 | L12: 1
A13: 22 | C13: Огњен Ницуловић | D13: 6 | E13: НЕ | F13: И. Бирчанин | G13: Земун | H13: Драгана Михајловић | K13: 1 | L13: 3
A14: 43 | C14: Ирина Тодоров | D14: 6 | E14: НЕ | F14: М.Ђ.Милићевић | G14: Вождовац | H14: Снежана Дујаковић | K14: 1 | L14: 5
A15: 64 | C15: Ђурђа Петровић | D15: 6 | E15: НЕ | F15: 1300 каплара | G15: Звездара | H15: Снежана Човић | K15: 1 | L15: 8
A16: 85 | C16: Тамара Стошић | D16: 6 | E16: НЕ | F16: Душко Радовић | G16: Нови Београд | H16: Маја Мутић | K16: 1 | L16: 10
A17: 106 | C17: Ана Станковић | D17: 6 | E17: НЕ | F17: Павле Савић | G17: Звездара | H17: Драгослава Јекић | K17: 1 | L17: 12
A18: 127 | C18: Нађа Митровић | D18: 6 | E18: НЕ | F18: Бранко Ћопић | G18: Раковица | H18: Југослав Секулић | K18: 1 | L18: 13
A19: 148 | C19: Тара Лукић | D19: 6 | E19: НЕ | F19: Филип Кљајић Фића | G19: Чукарица | H19: Јован Лазић | K19: 1 | L19: 15
A20: 169 | C20: Теодора Шева | D20: 6 | E20: НЕ | F20: Лаза Костић | G20: Нови Београд | H20: Ђорђе Ћипаризовић | K20: 1 | L20: 17
A21: 187 | C21: Иван Нинчић | D21: 6 | E21: НЕ | F21: Јелена Ћетковић | G21: Звездара | H21: Весна Тодоровић Ристић | K21: 1 | L21: 20
A22: 204 | C22: Михајло Кукић | D22: 6 | E22: НЕ | F22: Браћа Барух | G22: Стари град | H22: Милица Мирковић | K22: 1 | L22: 22
A23: 219 | C23: Наталија Живковић | D23: 6 | E23: НЕ | F23: Јелена Ћетковић | G23: Звездара | H23: Весна Тодоровић Ристић | K23: 1 | L23: 24
... A41: 583 | C41: Невена Станишић | D41: 8 | E41: НЕ | F41: Ћирило и Методије | G41: Звездара | H41: Бранимир Стојиљковић | K41: 1 | L41: 28
A42: РЕДНИ | B42: ШИФРА | C42: ИМЕ И ПРЕЗИМЕ | D42: РАЗРЕД | E42: ПОСЕБНО ОДЕЉЕЊЕ | F42: ШКОЛА | G42: ОПШТИНА | H42: ПРЕДМЕТНИ | I42: БРОЈ | J42: НАПОМЕНА | K42: БРОЈ УЧИОНИЦЕ | L42: РАДНО МЕСТО
A43: БРОЈ | C43: УЧЕНИКА | H43: НАСТАВНИК | I43: БОДОВА
A45: 2 | C45: Никола Манојловић | D45: 6 | E45: НЕ | F45: Вук Караџић | G45: Стари град | H45: Драган Јовановић | K45: 2 | L45: 1
A46: 23 | C46: Гаврило Младеновић | D46: 6 | E46: НЕ | F46: Петар Кочић | G46: Земун | H46: Ива Вулић | K46: 2 | L46: 3
A47: 44 | C47: Војин Ђорђевић | D47: 6 | E47: НЕ | F47: Ђура Даничић | G47: Вождовац | H47: Јелена Ристановић | K47: 2 | L47: 5
A48: 65 | C48: Лука Денић | D48: 6 | E48: НЕ | F48: Јосиф Панчић | G48: Чукарица | H48: Александра Обрадовић | K48: 2 | L48: 8
A49: 86 | C49: Ања Поповић | D49: 6 | E49: НЕ | F49: Иван Гундулић | G49: Нови Београд | H49: Драгица Момчиловић | K49: 2 | L49: 10
A50: 107 | C50: Теодора Дацић | D50: 6 | E50: НЕ | F50: Доситеј Обрадовић | G50: Чукарица | H50: Зорица Теохаревић | K50: 2 | L50: 12
A51: 128 | C51: Немања Хаџи- Ђикић | D51: 6 | E51: НЕ | F51: ОШ „Раде Драинац“ | G51: Палилула | H51: Марија Јовановић | K51: 2 | L51: 13
A52: 149 | C52: Милан Ђурђевић | D52: 6 | E52: НЕ | F52: „Иво Андрић“ | G52: Раковица | H52: Љиљана Костић | K52: 2 | L52: 15
A53: 170 | C53: Јелена Максимовић | D53: 6 | E53: НЕ | F53: Лаза Костић | G53: Нови Београд | H53: Ђорђе Ћипаризовић | K53: 2 | L53: 17
A54: 188 | C54: Александар В. Весић | D54: 6 | E54: НЕ | F54: Доситеј Обрадовић | G54: Чукарица | H54: Зорица Теохаревић | K54: 2 | L54: 20
A55: 205 | C55: Анђела Хајдер | D55: 6 | E55: НЕ | F55: Борислав Пекић | G55: Нови Београд | H55: Снежана Кутлашић | K55: 2 | L55: 22
A56: 220 | C56: Данило Васојевић | D56: 6 | E56: НЕ | F56: Уједињене Нације | G56: Чукарица | H56: Ана Марјановић | K56: 2 | L56: 24
... A74: 584 | C74: Наташа Ковачевић | D74: 8 | E74: НЕ | F74: Мика Антић | G74: Чукарица | H74: Наташа Мићевић | K74: 2 | L74: 28
A75: РЕДНИ | B75: ШИФРА | C75: ИМЕ И ПРЕЗИМЕ | D75: РАЗРЕД | E75: ПОСЕБНО ОДЕЉЕЊЕ | F75: ШКОЛА | G75: ОПШТИНА | H75: ПРЕДМЕТНИ | I75: БРОЈ | J75: НАПОМЕНА | K75: БРОЈ УЧИОНИЦЕ | L75: РАДНО МЕСТО
A76: БРОЈ | C76: УЧЕНИКА | H76: НАСТАВНИК | I76: БОДОВА
A78: 3 | C78: Алексеј Стевановић | D78: 6 | E78: НЕ | F78: Краљ Петар Први | G78: Стари град | H78: Станислав Миловановић | K78: 3 | L78: 1
A79: 24 | C79: Павле Неговановић | D79: 6 | E79: НЕ | F79: Момчило Живојиновић | G79: Младеновац | H79: Биљана Цесарац | K79: 3 | L79: 3
A80: 45 | C80: Нина Орландић | D80: 6 | E80: НЕ | F80: ОШ "Свети Сава" | G80: Врачар | H80: Наташа Станић | K80: 3 | L80: 5
A81: 66 | C81: Предраг Марковић | D81: 6 | E81: НЕ | F81: Светозар Марковић | G81: Врачар | H81: Снежана Стојановић Јовановић | K81: 3 | L81: 8
...

Sheet улазнице  
A1: Име и презиме | B1: Разред | C1: Школа | D1: Учионица | E1: Радно место | G1: Име и презиме | H1: Разред | I1: Школа | J1: Учионица | K1: Радно место
A2: ='Списак уч. по учионицама'!C12 -> Тодорa Јанковић | B2: ='Списак уч. по учионицама'!D12 -> 6 | C2: ='Списак уч. по учионицама'!F12 -> Вук Караџић | D2: ='Списак уч. по учионицама'!K12 -> 1 | E2: ='Списак уч. по учионицама'!L12 -> 1 | G2: ='Списак уч. по учионицама'!C13 -> Огњен Ницуловић | H2: ='Списак уч. по учионицама'!D13 -> 6 | I2: ='Списак уч. по учионицама'!F13 -> И. Бирчанин | J2: ='Списак уч. по учионицама'!K13 -> 1 | K2: ='Списак уч. по учионицама'!L13 -> 3
A3: Име и презиме | B3: Разред | C3: Школа | D3: Учионица | E3: Радно место | G3: Име и презиме | H3: Разред | I3: Школа | J3: Учионица | K3: Радно место
A4: ='Списак уч. по учионицама'!C14 -> Ирина Тодоров | B4: ='Списак уч. по учионицама'!D14 -> 6 | C4: ='Списак уч. по учионицама'!F14 -> М.Ђ.Милићевић | D4: ='Списак уч. по учионицама'!K14 -> 1 | E4: ='Списак уч. по учионицама'!L14 -> 5 | G4: ='Списак уч. по учионицама'!C15 -> Ђурђа Петровић | H4: ='Списак уч. по учионицама'!D15 -> 6 | I4: ='Списак уч. по учионицама'!F15 -> 1300 каплара | J4: ='Списак уч. по учионицама'!K15 -> 1 | K4: ='Списак уч. по учионицама'!L15 -> 8
A5: Име и презиме | B5: Разред | C5: Школа | D5: Учионица | E5: Радно место | G5: Име и презиме | H5: Разред | I5: Школа | J5: Учионица | K5: Радно место
A6: ='Списак уч. по учионицама'!C16 -> Тамара Стошић | B6: ='Списак уч. по учионицама'!D16 -> 6 | C6: ='Списак уч. по учионицама'!F16 -> Душко Радовић | D6: ='Списак уч. по учионицама'!K16 -> 1 | E6: ='Списак уч. по учионицама'!L16 -> 10 | G6: ='Списак уч. по учионицама'!C17 -> Ана Станковић | H6: ='Списак уч. по учионицама'!D17 -> 6 | I6: ='Списак уч. по учионицама'!F17 -> Павле Савић | J6: ='Списак уч. по учионицама'!K17 -> 1 | K6: ='Списак уч. по учионицама'!L17 -> 12
A7: Име и презиме | B7: Разред | C7: Школа | D7: Учионица | E7: Радно место | G7: Име и презиме | H7: Разред | I7: Школа | J7: Учионица | K7: Радно место
A8: ='Списак уч. по учионицама'!C18 -> Нађа Митровић | B8: ='Списак уч. по учионицама'!D18 -> 6 | C8: ='Списак уч. по учионицама'!F18 -> Бранко Ћопић | D8: ='Списак уч. по учионицама'!K18 -> 1 | E8: ='Списак уч. по учионицама'!L18 -> 13 | G8: ='Списак уч. по учионицама'!C19 -> Тара Лукић | H8: ='Списак уч. по учионицама'!D19 -> 6 | I8: ='Списак уч. по учионицама'!F19 -> Филип Кљајић Фића | J8: ='Списак уч. по учионицама'!K19 -> 1 | K8: ='Списак уч. по учионицама'!L19 -> 15
A9: Име и презиме | B9: Разред | C9: Школа | D9: Учионица | E9: Радно место | G9: Име и презиме | H9: Разред | I9: Школа | J9: Учионица | K9: Радно место
A10: ='Списак уч. по учионицама'!C20 -> Теодора Шева | B10: ='Списак уч. по учионицама'!D20 -> 6 | C10: ='Списак уч. по учионицама'!F20 -> Лаза Костић | D10: ='Списак уч. по учионицама'!K20 -> 1 | E10: ='Списак уч. по учионицама'!L20 -> 17 | G10: ='Списак уч. по учионицама'!C21 -> Иван Нинчић | H10: ='Списак уч. по учионицама'!D21 -> 6 | I10: ='Списак уч. по учионицама'!F21 -> Јелена Ћетковић | J10: ='Списак уч. по учионицама'!K21 -> 1 | K10: ='Списак уч. по учионицама'!L21 -> 20
A11: Име и презиме | B11: Разред | C11: Школа | D11: Учионица | E11: Радно место | G11: Име и презиме | H11: Разред | I11: Школа | J11: Учионица | K11: Радно место
A12: ='Списак уч. по учионицама'!C22 -> Михајло Кукић | B12: ='Списак уч. по учионицама'!D22 -> 6 | C12: ='Списак уч. по учионицама'!F22 -> Браћа Барух | D12: ='Списак уч. по учионицама'!K22 -> 1 | E12: ='Списак уч. по учионицама'!L22 -> 22 | G12: ='Списак уч. по учионицама'!C23 -> Наталија Живковић | H12: ='Списак уч. по учионицама'!D23 -> 6 | I12: ='Списак уч. по учионицама'!F23 -> Јелена Ћетковић | J12: ='Списак уч. по учионицама'!K23 -> 1 | K12: ='Списак уч. по учионицама'!L23 -> 24
A13: Име и презиме | B13: Разред | C13: Школа | D13: Учионица | E13: Радно место | G13: Име и презиме | H13: Разред | I13: Школа | J13: Учионица | K13: Радно место
A14: ='Списак уч. по учионицама'!C24 -> Милош Стевановић | B14: ='Списак уч. по учионицама'!D24 -> 6 | C14: ='Списак уч. по учионицама'!F24 -> „Франце Прешерн“ | D14: ='Списак уч. по учионицама'!K24 -> 1 | E14: ='Списак уч. по учионицама'!L24 -> 25 | G14: ='Списак уч. по учионицама'!C25 -> Ана Комлен | H14: ='Списак уч. по учионицама'!D25 -> 6 | I14: ='Списак уч. по учионицама'!F25 -> „Франце Прешерн“ | J14: ='Списак уч. по учионицама'!K25 -> 1 | K14: ='Списак уч. по учионицама'!L25 -> 27
A15: Име и презиме | B15: Разред | C15: Школа | D15: Учионица | E15: Радно место | G15: Име и презиме | H15: Разред | I15: Школа | J15: Учионица | K15: Радно место
A16: ='Списак уч. по учионицама'!C26 -> Реља Илић | B16: ='Списак уч. по учионицама'!D26 -> 6 | C16: ='Списак уч. по учионицама'!F26 -> Јосиф Панчић | D16: ='Списак уч. по учионицама'!K26 -> 1 | E16: ='Списак уч. по учионицама'!L26 -> 29 | G16: ='Списак уч. по учионицама'!C27 -> Богдан Црвеница | H16: ='Списак уч. по учионицама'!D27 -> 7 | I16: ='Списак уч. по учионицама'!F27 -> Ј. Миловановић | J16: ='Списак уч. по учионицама'!K27 -> 1 | K16: ='Списак уч. по учионицама'!L27 -> 2
A17: Име и презиме | B17: Разред | C17: Школа | D17: Учионица | E17: Радно место | G17: Име и презиме | H17: Разред | I17: Школа | J17: Учионица | K17: Радно место
A18: ='Списак уч. по учионицама'!C28 -> Јанко Поповић | B18: ='Списак уч. по учионицама'!D28 -> 7 | C18: ='Списак уч. по учионицама'!F28 -> Математичка гимназија | D18: ='Списак уч. по учионицама'!K28 -> 1 | E18: ='Списак уч. по учионицама'!L28 -> 6 | G18: ='Списак уч. по учионицама'!C29 -> Федор Вуксановић | H18: ='Списак уч. по учионицама'!D29 -> 7 | I18: ='Списак уч. по учионицама'!F29 -> Филип Филиповић | J18: ='Списак уч. по учионицама'!K29 -> 1 | K18: ='Списак уч. по учионицама'!L29 -> 9
A19: Име и презиме | B19: Разред | C19: Школа | D19: Учионица | E19: Радно место | G19: Име и презиме | H19: Разред | I19: Школа | J19: Учионица | K19: Радно место
A20: ='Списак уч. по учионицама'!C30 -> Анђелика Михаиловић | B20: ='Списак уч. по учионицама'!D30 -> 7 | C20: ='Списак уч. по учионицама'!F30 -> Математичка гимназија | D20: ='Списак уч. по учионицама'!K30 -> 1 | E20: ='Списак уч. по учионицама'!L30 -> 14 | G20: ='Списак уч. по учионицама'!C31 -> Лана Матић | H20: ='Списак уч. по учионицама'!D31 -> 7 | I20: ='Списак уч. по учионицама'!F31 -> Момчило Живојиновић | J20: ='Списак уч. по учионицама'!K31 -> 1 | K20: ='Списак уч. по учионицама'!L31 -> 18
A21: Име и презиме | B21: Разред | C21: Школа | D21: Учионица | E21: Радно место | G21: Име и презиме | H21: Разред | I21: Школа | J21: Учионица | K21: Радно место
A22: ='Списак уч. по учионицама'!C32 -> Тамара Димковић | B22: ='Списак уч. по учионицама'!D32 -> 7 | C22: ='Списак уч. по учионицама'!F32 -> Мика Антић | D22: ='Списак уч. по учионицама'!K32 -> 1 | E22: ='Списак уч. по учионицама'!L32 -> 21 | G22: ='Списак уч. по учионицама'!C33 -> Адријан Сарајлић | H22: ='Списак уч. по учионицама'!D33 -> 7 | I22: ='Списак уч. по учионицама'!F33 -> Стефан Немања | J22: ='Списак уч. по учионицама'!K33 -> 1 | K22: ='Списак уч. по учионицама'!L33 -> 26
A23: Име и презиме | B23: Разред | C23: Школа | D23: Учионица | E23: Радно место | G23: Име и презиме | H23: Разред | I23: Школа | J23: Учионица | K23: Радно место
A24: ='Списак уч. по учионицама'!C34 -> Никола Драгичевић | B24: ='Списак уч. по учионицама'!D34 -> 7 | C24: ='Списак уч. по учионицама'!F34 -> Вук Караџић | D24: ='Списак уч. по учионицама'!K34 -> 1 | E24: ='Списак уч. по учионицама'!L34 -> 30 | G24: ='Списак уч. по учионицама'!C35 -> Марко Марински | H24: ='Списак уч. по учионицама'!D35 -> 8 | I24: ='Списак уч. по учионицама'!F35 -> Вук Караџић | J24: ='Списак уч. по учионицама'!K35 -> 1 | K24: ='Списак уч. по учионицама'!L35 -> 4
A25: Име и презиме | B25: Разред | C25: Школа | D25: Учионица | E25: Радно место | G25: Име и презиме | H25: Разред | I25: Школа | J25: Учионица | K25: Радно место
A26: ='Списак уч. по учионицама'!C36 -> Марија Јулија Митровић | B26: ='Списак уч. по учионицама'!D36 -> 8 | C26: ='Списак уч. по учионицама'!F36 -> Светозар Марковић | D26: ='Списак уч. по учионицама'!K36 -> 1 | E26: ='Списак уч. по учионицама'!L36 -> 7 | G26: ='Списак уч. по учионицама'!C37 -> Тамара Марсенић | H26: ='Списак уч. по учионицама'!D37 -> 8 | I26: ='Списак уч. по учионицама'!F37 -> С. Маринковић | J26: ='Списак уч. по учионицама'!K37 -> 1 | K26: ='Списак уч. по учионицама'!L37 -> 11
A27: Име и презиме | B27: Разред | C27: Школа | D27: Учионица | E27: Радно место | G27: Име и презиме | H27: Разред | I27: Школа | J27: Учионица | K27: Радно место
A28: ='Списак уч. по учионицама'!C38 -> Јана Игњатовић | B28: ='Списак уч. по учионицама'!D38 -> 8 | C28: ='Списак уч. по учионицама'!F38 -> „Никола Тесла“ | D28: ='Списак уч. по учионицама'!K38 -> 1 | E28: ='Списак уч. по учионицама'!L38 -> 16 | G28: ='Списак уч. по учионицама'!C39 -> Ђорђе Ћургус | H28: ='Списак уч. по учионицама'!D39 -> 8 | I28: ='Списак уч. по учионицама'!F39 -> Светозар Марковић | J28: ='Списак уч. по учионицама'!K39 -> 1 | K28: ='Списак уч. по учионицама'!L39 -> 19
A29: Име и презиме | B29: Разред | C29: Школа | D29: Учионица | E29: Радно место | G29: Име и презиме | H29: Разред | I29: Школа | J29: Учионица | K29: Радно место
A30: ='Списак уч. по учионицама'!C40 -> Михајло Савић | B30: ='Списак уч. по учионицама'!D40 -> 8 | C30: ='Списак уч. по учионицама'!F40 -> Скадарлија | D30: ='Списак уч. по учионицама'!K40 -> 1 | E30: ='Списак уч. по учионицама'!L40 -> 23 | G30: ='Списак уч. по учионицама'!C41 -> Невена Станишић | H30: ='Списак уч. по учионицама'!D41 -> 8 | I30: ='Списак уч. по учионицама'!F41 -> Ћирило и Методије | J30: ='Списак уч. по учионицама'!K41 -> 1 | K30: ='Списак уч. по учионицама'!L41 -> 28
A31: Име и презиме | B31: Разред | C31: Школа | D31: Учионица | E31: Радно место | G31: Име и презиме | H31: Разред | I31: Школа | J31: Учионица | K31: Радно место
A32: ='Списак уч. по учионицама'!C45 -> Никола Манојловић | B32: ='Списак уч. по учионицама'!D45 -> 6 | C32: ='Списак уч. по учионицама'!F45 -> Вук Караџић | D32: ='Списак уч. по учионицама'!K45 -> 2 | E32: ='Списак уч. по учионицама'!L45 -> 1 | G32: ='Списак уч. по учионицама'!C46 -> Гаврило Младеновић | H32: ='Списак уч. по учионицама'!D46 -> 6 | I32: ='Списак уч. по учионицама'!F46 -> Петар Кочић | J32: ='Списак уч. по учионицама'!K46 -> 2 | K32: ='Списак уч. по учионицама'!L46 -> 3
A33: Име и презиме | B33: Разред | C33: Школа | D33: Учионица | E33: Радно место | G33: Име и презиме | H33: Разред | I33: Школа | J33: Учионица | K33: Радно место
A34: ='Списак уч. по учионицама'!C47 -> Војин Ђорђевић | B34: ='Списак уч. по учионицама'!D47 -> 6 | C34: ='Списак уч. по учионицама'!F47 -> Ђура Даничић | D34: ='Списак уч. по учионицама'!K47 -> 2 | E34: ='Списак уч. по учионицама'!L47 -> 5 | G34: ='Списак уч. по учионицама'!C48 -> Лука Денић | H34: ='Списак уч. по учионицама'!D48 -> 6 | I34: ='Списак уч. по учионицама'!F48 -> Јосиф Панчић | J34: ='Списак уч. по учионицама'!K48 -> 2 | K34: ='Списак уч. по учионицама'!L48 -> 8
A35: Име и презиме | B35: Разред | C35: Школа | D35: Учионица | E35: Радно место | G35: Име и презиме | H35: Разред | I35: Школа | J35: Учионица | K35: Радно место
A36: ='Списак уч. по учионицама'!C49 -> Ања Поповић | B36: ='Списак уч. по учионицама'!D49 -> 6 | C36: ='Списак уч. по учионицама'!F49 -> Иван Гундулић | D36: ='Списак уч. по учионицама'!K49 -> 2 | E36: ='Списак уч. по учионицама'!L49 -> 10 | G36: ='Списак уч. по учионицама'!C50 -> Теодора Дацић | H36: ='Списак уч. по учионицама'!D50 -> 6 | I36: ='Списак уч. по учионицама'!F50 -> Доситеј Обрадовић | J36: ='Списак уч. по учионицама'!K50 -> 2 | K36: ='Списак уч. по учионицама'!L50 -> 12
A37: Име и презиме | B37: Разред | C37: Школа | D37: Учионица | E37: Радно место | G37: Име и презиме | H37: Разред | I37: Школа | J37: Учионица | K37: Радно место
A38: ='Списак уч. по учионицама'!C51 -> Немања Хаџи- Ђикић | B38: ='Списак уч. по учионицама'!D51 -> 6 | C38: ='Списак уч. по учионицама'!F51 -> ОШ „Раде Драинац“ | D38: ='Списак уч. по учионицама'!K51 -> 2 | E38: ='Списак уч. по учионицама'!L51 -> 13 | G38: ='Списак уч. по учионицама'!C52 -> Милан Ђурђевић | H38: ='Списак уч. по учионицама'!D52 -> 6 | I38: ='Списак уч. по учионицама'!F52 -> „Иво Андрић“ | J38: ='Списак уч. по учионицама'!K52 -> 2 | K38: ='Списак уч. по учионицама'!L52 -> 15
A39: Име и презиме | B39: Разред | C39: Школа | D39: Учионица | E39: Радно место | G39: Име и презиме | H39: Разред | I39: Школа | J39: Учионица | K39: Радно место
A40: ='Списак уч. по учионицама'!C53 -> Јелена Максимовић | B40: ='Списак уч. по учионицама'!D53 -> 6 | C40: ='Списак уч. по учионицама'!F53 -> Лаза Костић | D40: ='Списак уч. по учионицама'!K53 -> 2 | E40: ='Списак уч. по учионицама'!L53 -> 17 | G40: ='Списак уч. по учионицама'!C54 -> Александар В. Весић | H40: ='Списак уч. по учионицама'!D54 -> 6 | I40: ='Списак уч. по учионицама'!F54 -> Доситеј Обрадовић | J40: ='Списак уч. по учионицама'!K54 -> 2 | K40: ='Списак уч. по учионицама'!L54 -> 20
...

Sheet 6.разред
A6: 6. разред
A8: Редни | B8: ШИФРА | C8: ИМЕ И ПРЕЗИМЕ | D8: РАЗРЕД | E8: Посебно одељење | F8: ШКОЛА | G8: ОПШТИНА | H8: ПРЕДМЕТНИ | I8: Зад 1 | J8: Зад 2 | K8: Зад 3 | L8: Зад 4 | M8: Зад 5 | N8: Укупно | O8: НАГРАДА
A9: број | C9: УЧЕНИКА | H9: НАСТАВНИК | N9: бодова
A10: 1 | B10: 6010 | C10: Ана Марић | D10: 6 | E10: НЕ | F10: Јован Дучић | G10: Нови Београд | H10: Анђа Поповић | I10: 20 | J10: 20 | K10: 20 | L10: 20 | M10: 20 | N10: =SUM(I10:M10) -> 100 | O10: I
A11: 2 | B11: 6027 | C11: Анђела Несторовић | D11: 6 | E11: НЕ | F11: Ђорђе Крстић | G11: Чукарица | H11: Вера Вранић | I11: 20 | J11: 20 | K11: 20 | L11: 20 | M11: 20 | N11: =SUM(I11:M11) -> 100 | O11: I
A12: 3 | B12: 6042 | C12: Владимир Лукић | D12: 6 | E12: НЕ | F12: ОШ „Стеван Дукић“ | G12: Палилула | H12: Минка Милићевић | I12: 20 | J12: 20 | K12: 20 | L12: 20 | M12: 20 | N12: =SUM(I12:M12) -> 100 | O12: I
A13: 4 | B13: 6055 | C13: Дамјан Граовац | D13: 6 | E13: НЕ | F13: Деспот Стефан Лазаревић | G13: Звездара | H13: Тамара Шево | I13: 20 | J13: 20 | K13: 20 | L13: 20 | M13: 20 | N13: =SUM(I13:M13) -> 100 | O13: I
A14: 5 | B14: 6067 | C14: Душан Лазовић | D14: 6 | E14: НЕ | F14: ОШ „Стеван Дукић“ | G14: Палилула | H14: Минка Милићевић | I14: 20 | J14: 20 | K14: 20 | L14: 20 | M14: 20 | N14: =SUM(I14:M14) -> 100 | O14: I
A15: 6 | B15: 6077 | C15: Ива Живковић | D15: 6 | E15: НЕ | F15: ОШ ,,Јован Миодраговић” | G15: Врачар | H15: Анита Тасић | I15: 20 | J15: 20 | K15: 20 | L15: 20 | M15: 20 | N15: =SUM(I15:M15) -> 100 | O15: I
A16: 7 | B16: 6164 | C16: Милош Мандић | D16: 6 | E16: НЕ | F16: Бранко Радичевић | G16: Нови Београд | H16: Зоран Алексић | I16: 20 | J16: 20 | K16: 20 | L16: 20 | M16: 20 | N16: =SUM(I16:M16) -> 100 | O16: I
A17: 8 | B17: 6176 | C17: Нађа Митровић | D17: 6 | E17: НЕ | F17: „Бранко Ћопић“ | G17: Раковица | H17: Југослав Секулић | I17: 20 | J17: 20 | K17: 20 | L17: 20 | M17: 20 | N17: =SUM(I17:M17) -> 100 | O17: I
A18: 9 | B18: 6177 | C18: Нађа Петровић | D18: 6 | E18: НЕ | F18: Драган Лукић | G18: Нови Београд | H18: Јелена Латас | I18: 20 | J18: 20 | K18: 20 | L18: 20 | M18: 20 | N18: =SUM(I18:M18) -> 100 | O18: I
A19: 10 | B19: 6200 | C19: Нина Милетић | D19: 6 | E19: НЕ | F19: И. Бирчанин | G19: Земун | H19: Драгана Михајловић | I19: 20 | J19: 20 | K19: 20 | L19: 20 | M19: 20 | N19: =SUM(I19:M19) -> 100 | O19: I
A20: 11 | B20: 6201 | C20: Нина Орландић | D20: 6 | E20: НЕ | F20: ОШ "Свети Сава" | G20: Врачар | H20: Наташа Станић | I20: 20 | J20: 20 | K20: 20 | L20: 20 | M20: 20 | N20: =SUM(I20:M20) -> 100 | O20: I
A21: 12 | B21: 6202 | C21: Новак Јанкуцић | D21: 6 | E21: НЕ | F21: „Никола Тесла“ | G21: Раковица | H21: Весна Манић | I21: 20 | J21: 20 | K21: 20 | L21: 20 | M21: 20 | N21: =SUM(I21:M21) -> 100 | O21: I
... A191: 182 | B191: 6139 | C191: Марко Катић | D191: 6 | E191: НЕ | F191: Уједињене Нације | G191: Чукарица | H191: Ана Марјановић | I191: 20 | J191: 11 | K191: 2 | L191: 9 | M191: 13 | N191: =SUM(I191:M191) -> 55 | O191: Похвала
A192: 183 | B192: 6279 | C192: Михајло Беговић | D192: 6 | E192: НЕ | F192: Раде Трајинац | I192: 5 | J192: 11 | K192: 15 | L192: 19 | M192: 5 | N192: =SUM(I192:M192) -> 55 | O192: Похвала
A193: 184 | B193: 6195 | C193: Никола Тасић | D193: 6 | E193: НЕ | F193: 20. октобар | G193: Нови Београд | H193: Тања Жугић | I193: 20 | J193: 11 | K193: 3 | L193: 6 | M193: 15 | N193: =SUM(I193:M193) -> 55 | O193: Похвала
A194: 185 | B194: 6267 | C194: Теодора Мићић | D194: 6 | E194: НЕ | F194: Доситеј Обрадовић | G194: Чукарица | H194: Зорица Теохаревић | I194: 9 | J194: 20 | K194: 2 | L194: 10 | M194: 14 | N194: =SUM(I194:M194) -> 55 | O194: Похвала
A195: 186 | B195: 6001 | C195: Aндреј Илић | D195: 6 | E195: НЕ | F195: Веселин Маслеша | G195: Вождовац | H195: Љубица Вучић | I195: 20 | J195: 20 | K195: 3 | L195: 7.5 | M195: 3 | N195: =SUM(I195:M195) -> 53.5 | O195: Похвала
A196: 187 | B196: 6078 | C196: Ива Јандрлић | D196: 6 | E196: НЕ | F196: ОШ „Влада Аксентијевић“ | G196: Палилула | H196: Јелена Вучетић | I196: 0 | J196: 20 | K196: 3 | L196: 14 | M196: 16 | N196: =SUM(I196:M196) -> 53 | O196: Похвала
A197: 188 | B197: 6193 | C197: Никола Ранисављевић | D197: 6 | E197: НЕ | F197: Михајло Пупин | G197: Земун | H197: Мирјана Бањац | I197: 9 | J197: 20 | K197: 0 | L197: 14 | M197: 10 | N197: =SUM(I197:M197) -> 53 | O197: Похвала
A198: 189 | B198: 6242 | C198: Сергеј Костић | D198: 6 | E198: НЕ | F198: Дринка Павловић | G198: Стари град | H198: Ивана Томић | I198: 5 | J198: 17 | K198: 3 | L198: 11 | M198: 17 | N198: =SUM(I198:M198) -> 53 | O198: Похвала
A199: 190 | B199: 6057 | C199: Дане Јовчић | D199: 6 | E199: НЕ | F199: ОШ „Ослободиоци Београда“ | G199: Палилула | H199: Ана Манготић | I199: 20 | J199: 11 | K199: 2 | L199: 1.5 | M199: 17.5 | N199: =SUM(I199:M199) -> 52
A200: 191 | B200: 6107 | C200: Јована Томашевић | D200: 6 | E200: НЕ | F200: Доситеј Обрадовић | G200: Чукарица | H200: Зорица Теохаревић | I200: 5 | J200: 11 | K200: 2 | L200: 20 | M200: 14 | N200: =SUM(I200:M200) -> 52
A201: 192 | B201: 6129 | C201: Максим Филиповић | D201: 6 | E201: НЕ | F201: Посавски партизани | G201: Обреновац | H201: Маја Димковић | I201: 20 | J201: 16 | K201: 3 | L201: 8 | M201: 5 | N201: =SUM(I201:M201) -> 52
A202: 193 | B202: 6210 | C202: Олга Михаиловић | D202: 6 | E202: НЕ | F202: Г. Принцип | G202: Земун | H202: Љиљана Милошевић | I202: 20 | J202: 2 | K202: 3 | L202: 7 | M202: 20 | N202: =SUM(I202:M202) -> 52
A203: 194 | B203: 6084 | C203: Ивона Грујић | D203: 6 | E203: НЕ | F203: Г. Принцип | G203: Земун | H203: Љиљана Милошевић | I203: 20 | J203: 11 | K203: 0 | L203: 17 | M203: 3 | N203: =SUM(I203:M203) -> 51
A204: 195 | B204: 6252 | C204: Стефан Ристески | D204: 6 | E204: НЕ | F204: Лаза Костић | G204: Нови Београд | H204: Ђорђе Ћипаризовић | I204: 0 | J204: 8 | K204: 3 | L204: 20 | M204: 20 | N204: =SUM(I204:M204) -> 51
A205: 196 | B205: 6005 | C205: Александар В. Весић | D205: 6 | E205: НЕ | F205: Доситеј Обрадовић | G205: Чукарица | H205: Зорица Теохаревић | I205: 9 | J205: 17 | K205: 3 | L205: 14 | M205: 7 | N205: =SUM(I205:M205) -> 50
A206: 197 | B206: 6237 | C206: Саво Бошковић | D206: 6 | E206: НЕ | F206: Драган Лукић | G206: Нови Београд | H206: Јелена Латас | I206: 20 | J206: 10 | K206: 3 | L206: 11 | M206: 6 | N206: =SUM(I206:M206) -> 50
A207: 198 | B207: 6249 | C207: Стефан Ђокић | D207: 6 | E207: НЕ | F207: Јелена Ћетковић | G207: Звездара | H207: Весна Тодоровић Ристић | I207: 20 | J207: 20 | K207: 2 | L207: 8 | M207: 0 | N207: =SUM(I207:M207) -> 50
A208: 199 | B208: 6033 | C208: Ања Поповић | D208: 6 | E208: НЕ | F208: Иван Гундулић | G208: Нови Београд | H208: Драгица Момчиловић | I208: 0 | J208: 20 | K208: 3 | L208: 20 | M208: 6 | N208: =SUM(I208:M208) -> 49
A209: 200 | B209: 6046 | C209: Вук Василијевић | D209: 6 | E209: НЕ | F209: Филип Филиповић | G209: Вождовац | H209: Нада Јојић | I209: 13 | J209: 20 | K209: 1 | L209: 4 | M209: 11 | N209: =SUM(I209:M209) -> 49
A210: 201 | B210: 6180 | C210: Наталија Живковић | D210: 6 | E210: НЕ | F210: Јелена Ћетковић | G210: Звездара | H210: Весна Тодоровић Ристић | I210: 20 | J210: 17 | K210: 4 | L210: 8 | M210: 0 | N210: =SUM(I210:M210) -> 49
... A277: 268 | B277: 6216 | C277: Павле Ђоковић | D277: 6 | E277: НЕ | F277: Ћилило и Методије | G277: Звездара | H277: Драгана Ранковић | I277: 0 | J277: 0 | K277: 3 | L277: 6 | M277: 3 | N277: =SUM(I277:M277) -> 12
A278: 269 | B278: 6008 | C278: Алексеј Стевановић | D278: 6 | E278: НЕ | F278: Краљ Петар Први | G278: Стари град | H278: Станислав Миловановић | N278: =SUM(I278:M278) -> 0
A279: 270 | B279: 6031 | C279: Ања Маченовски | D279: 6 | E279: НЕ | F279: ОШ"Кнез Лазар" | G279: Лазаревац | H279: Слободанка Николић Максимовић | N279: =SUM(I279:M279) -> 0
A280: 271 | B280: 6069 | C280: Ђорђе Перишић | D280: 6 | E280: НЕ | F280: Бора Станковић | G280: Вождовац | H280: Јован Анђелковић | N280: =SUM(I280:M280) -> 0
A281: 272 | B281: 6071 | C281: Ђурђа Јовић | D281: 6 | E281: НЕ | F281: Стефан Дечански | G281: Чукарица | H281: Наташа Костић | N281: =SUM(I281:M281) -> 0
...

Sheet 7.разред
A6: 7. разред
A10: Редни | B10: ШИФРА | C10: ИМЕ И ПРЕЗИМЕ | D10: РАЗРЕД | E10: Посебно одељење | F10: ШКОЛА | G10: ОПШТИНА | H10: ПРЕДМЕТНИ | I10: Зад 1 | J10: Зад 2 | K10: Зад 3 | L10: Зад 4 | M10: Зад 5 | N10: Укупно | O10: НАГРАДА
A11: број | C11: УЧЕНИКА | H11: НАСТАВНИК | N11: бодова
A13: Математичка гимназија
A15: 1 | B15: 7014 | C15: Андреј Петровић | D15: 7 | E15: ДА | F15: Математичка гимназија | G15: Стари град | H15: Вишња Јовановић | I15: 20 | J15: 20 | K15: 20 | L15: 20 | M15: 20 | N15: =SUM(I15:M15) -> 100 | O15: I | AQ15: #REF!
A16: 2 | B16: 7082 | C16: Јанко Поповић | D16: 7 | E16: ДА | F16: Математичка гимназија | G16: Београд | H16: Вишња Јовановић | I16: 20 | J16: 20 | K16: 20 | L16: 20 | M16: 20 | N16: =SUM(I16:M16) -> 100 | O16: I
A17: 3 | B17: 7108 | C17: Марија Михајловић | D17: 7 | E17: ДА | F17: Математичка гимназија | G17: Београд | H17: Вишња Јовановић | I17: 20 | J17: 20 | K17: 20 | L17: 20 | M17: 20 | N17: =SUM(I17:M17) -> 100 | O17: I
A18: 4 | B18: 7114 | C18: Марко Трајковић | D18: 7 | E18: ДА | F18: Математичка гимназија | G18: Стари град | H18: Вишња Јовановић | I18: 20 | J18: 20 | K18: 20 | L18: 20 | M18: 20 | N18: =SUM(I18:M18) -> 100 | O18: I
A19: 5 | B19: 7044 | C19: Вукашин Остојић | D19: 7 | E19: ДА | F19: Математичка гимназија | G19: Стари град | H19: Вишња Јовановић | I19: 19 | J19: 20 | K19: 20 | L19: 20 | M19: 20 | N19: =SUM(I19:M19) -> 99 | O19: II
A20: 6 | B20: 7183 | C20: Урош Костадиновић | D20: 7 | E20: ДА | F20: Математичка гимназија | G20: Стари град | H20: Вишња Јовановић | I20: 20 | J20: 19 | K20: 20 | L20: 20 | M20: 19 | N20: =SUM(I20:M20) -> 98 | O20: II
A21: 7 | B21: 7111 | C21: Марко Митић | D21: 7 | E21: ДА | F21: Математичка гимназија | G21: Београд | H21: Вишња Јовановић | I21: 20 | J21: 18 | K21: 20 | L21: 20 | M21: 18 | N21: =SUM(I21:M21) -> 96 | O21: III
A22: 8 | B22: 7037 | C22: Војислав Андрић | D22: 7 | E22: ДА | F22: Математичка гимназија | G22: Стари град | H22: Вишња Јовановић | I22: 10 | J22: 20 | K22: 20 | L22: 20 | M22: 17 | N22: =SUM(I22:M22) -> 87 | O22: III
A23: 9 | B23: 7034 | C23: Војин Митровић | D23: 7 | E23: ДА | F23: Математичка гимназија | G23: Београд | H23: Вишња Јовановић | I23: 4 | J23: 20 | K23: 20 | L23: 20 | M23: 20 | N23: =SUM(I23:M23) -> 84 | O23: III
A24: 10 | B24: 7148 | C24: Огњен Јанковић | D24: 7 | E24: ДА | F24: Математичка гимназија | G24: Београд | H24: Вишња Јовановић | I24: 2 | J24: 20 | K24: 20 | L24: 20 | M24: 20 | N24: =SUM(I24:M24) -> 82 | O24: III
A25: 11 | B25: 7142 | C25: Никола Минић | D25: 7 | E25: ДА | F25: Математичка гимназија | G25: Београд | H25: Вишња Јовановић | I25: 5 | J25: 20 | K25: 20 | L25: 13 | M25: 20 | N25: =SUM(I25:M25) -> 78 | O25: III
A26: 12 | B26: 7170 | C26: Софија Чебашек | D26: 7 | E26: ДА | F26: Математичка гимназија | G26: Београд | H26: Вишња Јовановић | I26: 14 | J26: 8 | K26: 15 | L26: 20 | M26: 20 | N26: =SUM(I26:M26) -> 77 | O26: III
A27: 13 | B27: 7144 | C27: Нина Андрејевић | D27: 7 | E27: ДА | F27: Математичка гимназија | G27: Стари град | H27: Вишња Јовановић | I27: 17 | J27: 14 | K27: 11 | L27: 13 | M27: 20 | N27: =SUM(I27:M27) -> 75 | O27: Похвала
... A31: 17 | B31: 7195 | C31: Лазар Јовић | D31: 7 | E31: ДА | F31: Математичка гимназија | G31: Стари град | H31: Вишња Јовановић | I31: 10 | J31: 0 | K31: 20 | L31: 20 | M31: 17 | N31: =SUM(I31:M31) -> 67 | O31: Похвала
A32: 18 | B32: 7025 | C32: Бојан Јовичић | D32: 7 | E32: ДА | F32: Математичка гимназија | G32: Београд | H32: Вишња Јовановић | I32: 2 | J32: 4 | K32: 20 | L32: 16 | M32: 20 | N32: =SUM(I32:M32) -> 62
A33: 19 | B33: 7199 | C33: Петар Ивковић | D33: 7 | E33: ДА | F33: Математичка гимназија | G33: Београд | H33: Вишња Јовановић | I33: 4 | J33: 3 | K33: 0 | L33: 20 | M33: 20 | N33: =SUM(I33:M33) -> 47
A34: 20 | B34: 7050 | C34: Димитрије Марић | D34: 7 | E34: ДА | F34: Математичка гимназија | G34: Београд | H34: Вишња Јовановић | I34: 5 | J34: 1 | K34: 6 | L34: 11 | M34: 18 | N34: =SUM(I34:M34) -> 41
A35: 21 | B35: 7132 | C35: Михајло Живановић | D35: 7 | E35: ДА | F35: Математичка гимназија | G35: Стари град | H35: Вишња Јовановић | I35: 6 | J35: 20 | K35: 0 | L35: 0 | M35: 8 | N35: =SUM(I35:M35) -> 34
A36: 22 | B36: 7090 | C36: Лазар Лојаница | D36: 7 | E36: ДА | F36: Математичка гимназија | G36: Београд | H36: Вишња Јовановић | I36: 0 | J36: 2 | K36: 2 | L36: 2 | M36: 10 | N36: =SUM(I36:M36) -> 16
A37: 23 | B37: 7192 | C37: Лазар Јовић | D37: 7 | E37: ДА | F37: Математичка гимназија | G37: Београд | H37: Вишња Јовановић | N37: =SUM(I37:M37) -> 0
A38: 24 | B38: 7193 | C38: Петар Ивковић | D38: 7 | E38: ДА | F38: Математичка гимназија | G38: Београд | H38: Вишња Јовановић | N38: =SUM(I38:M38) -> 0
A40: Основне школе
A42: 1 | B42: 7060 | C42: Ђорђе Пауновић | D42: 7 | E42: НЕ | F42: Карађорђе | G42: Вождовац | H42: Жељка Филић | I42: 20 | J42: 20 | K42: 20 | L42: 20 | M42: 20 | N42: 100 | O42: I
A43: 2 | B43: 7120 | C43: Миа Гмитровић | D43: 7 | E43: НЕ | F43: Павле Савић | G43: Звездара | H43: Драгослава Јекић | I43: 20 | J43: 18 | K43: 20 | L43: 20 | M43: 20 | N43: =SUM(I43:M43) -> 98 | O43: I
A44: 3 | B44: 7038 | C44: Вук Шећеровић | D44: 7 | E44: НЕ | F44: Ћирило и Методије | G44: Звездара | H44: Бранимир Стојиљковић | I44: 20 | J44: 14 | K44: 20 | L44: 20 | M44: 20 | N44: =SUM(I44:M44) -> 94 | O44: I
A45: 4 | B45: 7105 | C45: Љубица Ђорђевић Теодоровић | D45: 7 | E45: НЕ | F45: Јелена Ћетковић | G45: Звездара | H45: Љиљана Марковић | I45: 10 | J45: 20 | K45: 20 | L45: 20 | M45: 20 | N45: =SUM(I45:M45) -> 90 | O45: I
A46: 5 | B46: 7061 | C46: Ђорђе Васић | D46: 7 | E46: НЕ | F46: ОШ „Јован Поповић“ | G46: Палилула | H46: Снежана Косачевић | I46: 20 | J46: 14 | K46: 20 | L46: 17 | M46: 18 | N46: =SUM(I46:M46) -> 89 | O46: I
A47: 6 | B47: 7166 | C47: Софија Павлекић | D47: 7 | E47: НЕ | F47: Радоје Домановић | G47: Нови Београд | H47: Ранка Рајковић | I47: 20 | J47: 9 | K47: 20 | L47: 20 | M47: 20 | N47: =SUM(I47:M47) -> 89 | O47: I
A48: 7 | B48: 7072 | C48: Илија Саковић | D48: 7 | E48: НЕ | F48: ОШ ,,Јован Миодраговић” | G48: Врачар | H48: Мирјана Николић | I48: 20 | J48: 8.5 | K48: 20 | L48: 20 | M48: 20 | N48: =SUM(I48:M48) -> 88.5 | O48: I
A49: 8 | B49: 7019 | C49: Ања Вукмировић | D49: 7 | E49: НЕ | F49: Г. Принцип | G49: Земун | H49: Љиљана Милошевић | I49: 14 | J49: 14 | K49: 20 | L49: 20 | M49: 20 | N49: =SUM(I49:M49) -> 88 | O49: I
A50: 22 | B50: 7047 | C50: Давид Матић | D50: 7 | E50: НЕ | F50: Вук Караџић | G50: Стари град | H50: Драган Јовановић | I50: 10 | J50: 20 | K50: 20 | L50: 17 | M50: 18.5 | N50: =SUM(I50:M50) -> 85.5 | O50: I
A51: 9 | B51: 7004 | C51: Алекса Јоцковић | D51: 7 | E51: НЕ | F51: Радоје Домановић | G51: Нови Београд | H51: Ранка Рајковић | I51: 5 | J51: 20 | K51: 20 | L51: 20 | M51: 20 | N51: =SUM(I51:M51) -> 85 | O51: I
A52: 10 | B52: 7006 | C52: Алексеj Петровић | D52: 7 | E52: НЕ | F52: Милош Црњански | G52: Чукарица | H52: Ката Вулетић | I52: 11 | J52: 14 | K52: 20 | L52: 20 | M52: 20 | N52: =SUM(I52:M52) -> 85 | O52: I
A53: 11 | B53: 7087 | C53: Катарина Николић | D53: 7 | E53: НЕ | F53: Љуба Ненадовић | G53: Чукарица | H53: Ратко Кењић | I53: 5 | J53: 20 | K53: 20 | L53: 20 | M53: 20 | N53: =SUM(I53:M53) -> 85 | O53: I
A54: 12 | B54: 7119 | C54: Миа Вучетић | D54: 7 | E54: НЕ | F54: Ћирило и Методије | G54: Звездара | H54: Бранимир Стојиљковић | I54: 20 | J54: 5 | K54: 20 | L54: 20 | M54: 20 | N54: =SUM(I54:M54) -> 85 | O54: I
... A159: 118 | B159: 7180 | C159: Теодора Савић | D159: 7 | E159: НЕ | F159: Бранислав Нушић | G159: Вождовац | H159: Милица Ђекић | I159: 14 | J159: 0 | K159: 2 | L159: 4 | M159: 18 | N159: =SUM(I159:M159) -> 38 | O159: Похвала
...

Sheet 8.разред
A6: 8. разред
A10: Редни | B10: ШИФРА | C10: ИМЕ И ПРЕЗИМЕ | D10: РАЗРЕД | E10: Посебно одељење | F10: ШКОЛА | G10: ОПШТИНА | H10: ПРЕДМЕТНИ | I10: Зад 1 | J10: Зад 2 | K10: Зад 3 | L10: Зад 4 | M10: Зад 5 | N10: Укупно | O10: Награда
A11: број | C11: УЧЕНИКА | H11: НАСТАВНИК | N11: бодова
A13: Основне школе
A15: 1 | B15: 8005 | C15: Александар Манојловић | D15: 8 | E15: НЕ | F15: „Франце Прешерн“ | G15: Раковица | H15: Јелисавета Хрњаковић | I15: 20 | J15: 20 | K15: 20 | L15: 20 | M15: 20 | N15: =SUM(I15:M15) -> 100 | O15: I
A16: 2 | B16: 8023 | C16: Данило Грбић | D16: 8 | E16: НЕ | F16: Лаза Костић | G16: Нови Београд | H16: Ђорђе Ћипаризовић | I16: 20 | J16: 20 | K16: 20 | L16: 17 | M16: 10 | N16: =SUM(I16:M16) -> 87 | O16: I
A17: 3 | B17: 8031 | C17: Дуња Суботић | D17: 8 | E17: НЕ | F17: С. Маринковић | G17: Земун | H17: Мирјана Кисјелица | I17: 20 | J17: 20 | K17: 20 | L17: 4 | M17: 20 | N17: =SUM(I17:M17) -> 84 | O17: I
A18: 4 | B18: 8119 | C18: Соња Стојановић | D18: 8 | E18: НЕ | F18: Дринка Павловић | G18: Стари град | H18: Ивана Томић | I18: 20 | J18: 20 | K18: 19 | L18: 3 | M18: 20 | N18: =SUM(I18:M18) -> 82 | O18: I
A19: 5 | B19: 8045 | C19: Јана Ломић | D19: 8 | E19: НЕ | F19: 20. октобар | G19: Нови Београд | H19: Маријета Ђаковић | I19: 20 | J19: 20 | K19: 18 | L19: 2 | M19: 20 | N19: =SUM(I19:M19) -> 80 | O19: I
A20: 6 | B20: 8059 | C20: Лазар Стојадиновић | D20: 8 | E20: НЕ | F20: Јован Јовановић Змај | G20: Обреновац | H20: Никола Стевановић | I20: 20 | J20: 19 | K20: 20 | L20: 1 | M20: 20 | N20: =SUM(I20:M20) -> 80 | O20: I
A21: 7 | B21: 8112 | C21: Павле Бугарски | D21: 8 | E21: НЕ | F21: Јован Јовановић Змај | G21: Обреновац | H21: Драган Мандушић | I21: 20 | J21: 20 | K21: 15 | L21: 4 | M21: 20 | N21: =SUM(I21:M21) -> 79 | O21: I
A22: 8 | B22: 8122 | C22: Стефанија Живановић | D22: 8 | E22: НЕ | F22: Дринка Павловић | G22: Стари град | H22: Ивана Томић | I22: 20 | J22: 20 | K22: 18 | L22: 1 | M22: 20 | N22: =SUM(I22:M22) -> 79 | O22: I
A23: 9 | B23: 8050 | C23: Катарина Ђуричић | D23: 8 | E23: НЕ | F23: Б. Радичевић | G23: Земун | H23: Љубинка Павловић | I23: 20 | J23: 17 | K23: 20 | L23: 1 | M23: 20 | N23: =SUM(I23:M23) -> 78 | O23: I
A24: 10 | B24: 8126 | C24: Теодора Сајић | D24: 8 | E24: НЕ | F24: ОШ „Милена Павловић Барили“ | G24: Палилула | H24: Љиљана Пајовић Јовановић | I24: 20 | J24: 20 | K24: 15 | L24: 2 | M24: 20 | N24: =SUM(I24:M24) -> 77 | O24: II
A25: 11 | B25: 8070 | C25: Маја Митић | D25: 8 | E25: НЕ | F25: Радоје Домановић | G25: Нови Београд | H25: Александар Јовановић | I25: 20 | J25: 20 | K25: 15 | L25: 1 | M25: 20 | N25: =SUM(I25:M25) -> 76 | O25: II
A26: 12 | B26: 8096 | C26: Михаило Јанчевић | D26: 8 | E26: НЕ | F26: Раде Кончар | G26: Земун | H26: Сибела Минић | I26: 20 | J26: 20 | K26: 14 | L26: 1 | M26: 20 | N26: =SUM(I26:M26) -> 75 | O26: II
... A89: 75 | B89: 8099 | C89: Нађа Радошевић | D89: 8 | E89: НЕ | F89: Вук Караџић | G89: Стари град | H89: Драган Јовановић | I89: 15 | J89: 2 | K89: 4 | L89: 2 | M89: 20 | N89: =SUM(I89:M89) -> 43 | O89: Похвала
A90: 76 | B90: 8027 | C90: Димитрије Момић | D90: 8 | E90: НЕ | F90: Марко Орешковић | G90: Нови Београд | H90: Игор Димитријевић | I90: 5 | J90: 2 | K90: 10 | L90: 4 | M90: 20 | N90: =SUM(I90:M90) -> 41
A91: 77 | B91: 8084 | C91: Милица Величковић | D91: 8 | E91: НЕ | F91: Ђура Даничић | G91: Вождовац | H91: Јелена Ристановић | I91: 20 | J91: 0 | K91: 11 | L91: 0 | M91: 10 | N91: =SUM(I91:M91) -> 41
A92: 78 | B92: 8129 | C92: Урош Петровић | D92: 8 | E92: НЕ | F92: ОШ «Светозар Марковић» | G92: Врачар | H92: Жељка Клус | I92: 20 | J92: 0 | K92: 11 | L92: 0 | M92: 10 | N92: =SUM(I92:M92) -> 41
A93: 79 | B93: 8131 | C93: Валентина Брзић | D93: 8 | E93: НЕ | F93: Ђура Даничић | G93: Вождовац | H93: Јелена Ристановић | I93: 20 | J93: 4 | K93: 7 | L93: 0 | M93: 10 | N93: =SUM(I93:M93) -> 41
A94: 80 | B94: 8013 | C94: Ања Радошевић | D94: 8 | E94: НЕ | F94: Вук Караџић | G94: Стари град | H94: Драган Јовановић | I94: 20 | J94: 0 | K94: 8 | L94: 2 | M94: 10 | N94: =SUM(I94:M94) -> 40
A95: 81 | B95: 8041 | C95: Илија Солдо | D95: 8 | E95: НЕ | F95: ОШ"НХ Синиша Николајевић" | G95: Врачар | H95: Данијела Маринчев | I95: 20 | J95: 10 | K95: 0 | L95: 0 | M95: 10 | N95: =SUM(I95:M95) -> 40
A96: 82 | B96: 8098 | C96: Михајло Савић | D96: 8 | E96: НЕ | F96: Скадарлија | G96: Стари град | H96: Драгана Пиваш | I96: 19 | J96: 0 | K96: 10 | L96: 1 | M96: 10 | N96: =SUM(I96:M96) -> 40
A97: 83 | B97: 8025 | C97: Даница Милановић | D97: 8 | E97: НЕ | F97: „Бранко Ћопић“ | G97: Раковица | H97: Југослав Секулић | I97: 5 | J97: 0 | K97: 11 | L97: 4 | M97: 19 | N97: =SUM(I97:M97) -> 39
A98: 84 | B98: 8088 | C98: Милица Трнинић | D98: 8 | E98: НЕ | F98: „Иво Андрић“ | G98: Раковица | H98: Александра Поповић | I98: 20 | J98: 8 | K98: 6 | L98: 1 | M98: 4 | N98: =SUM(I98:M98) -> 39
A99: 85 | B99: 8064 | C99: Лука Граховац | D99: 8 | E99: НЕ | F99: Михајло Пупин | G99: Земун | H99: Љубинка Павловић | I99: 20 | J99: 0 | K99: 8 | L99: 0 | M99: 10 | N99: =SUM(I99:M99) -> 38
A100: 86 | B100: 8118 | C100: Соња Николић | D100: 8 | E100: НЕ | F100: Јанко Веселиновић | G100: Вождовац | H100: Дејан Јовановић | I100: 10 | J100: 0 | K100: 8 | L100: 10 | M100: 10 | N100: =SUM(I100:M100) -> 38
A101: 87 | B101: 8033 | C101: Душан Илинчић | D101: 8 | E101: НЕ | F101: Петар Кочић | G101: Земун | H101: Ива Вулић | I101: 20 | J101: 0 | K101: 6 | L101: 0 | M101: 10 | N101: =SUM(I101:M101) -> 36
... A117: 103 | B117: 8030 | C117: Драгослав Митровић | D117: 8 | E117: НЕ | F117: Браћа Барух | G117: Стари град | H117: Милица Мирковић | I117: 5 | J117: 0 | K117: 0 | L117: 2 | M117: 0 | N117: =SUM(I117:M117) -> 7
A118: 104 | B118: 8019 | C118: Бошко Кукањац | D118: 8 | E118: НЕ | F118: „Франце Прешерн“ | G118: Раковица | H118: Јелисавета Хрњаковић | N118: =SUM(I118:M118) -> 0
A119: 105 | B119: 8036 | C119: Емилија Дивац | D119: 8 | E119: НЕ | F119: Мајка Југовића | G119: Земун | H119: Марија Паројчић | N119: =SUM(I119:M119) -> 0
A120: 106 | B120: 8075 | C120: Марко Марински | D120: 8 | E120: НЕ | F120: Вук Караџић | G120: Стари град | H120: Драган Јовановић | N120: =SUM(I120:M120) -> 0
A121: 107 | B121: 8094 | C121: Миодраг Илић | D121: 8 | E121: НЕ | F121: Бранко Радичевић | G121: Нови Београд | H121: Зоран Алексић | N121: =SUM(I121:M121) -> 0
A123: Математичка гимназија
A125: 1 | B125: 8083 | C125: Мила Миленић | D125: 8 | E125: ДА | F125: Математичка гимназија | G125: Београд | H125: Вишња Јовановић | I125: 20 | J125: 20 | K125: 20 | L125: 20 | M125: 20 | N125: =SUM(I125:M125) -> 100 | O125: I
A126: 2 | B126: 8130 | C126: Филип Марковић | D126: 8 | E126: ДА | F126: Математичка гимназија | G126: Београд | H126: Вишња Јовановић | I126: 20 | J126: 20 | K126: 20 | L126: 20 | M126: 20 | N126: =SUM(I126:M126) -> 100 | O126: I
A127: 3 | B127: 8121 | C127: Стеван Радивојевић | D127: 8 | E127: ДА | F127: Математичка гимназија | G127: Београд | H127: Вишња Јовановић | I127: 19 | J127: 20 | K127: 20 | L127: 20 | M127: 20 | N127: =SUM(I127:M127) -> 99 | O127: I
A128: 4 | B128: 8048 | C128: Јован Милићев | D128: 8 | E128: ДА | F128: Математичка гимназија | G128: Београд | H128: Вишња Јовановић | I128: 20 | J128: 20 | K128: 20 | L128: 4 | M128: 20 | N128: =SUM(I128:M128) -> 84 | O128: II
A129: 5 | B129: 8061 | C129: Лана Дерманов | D129: 8 | E129: ДА | F129: Математичка гимназија | G129: Београд | H129: Вишња Јовановић | I129: 20 | J129: 20 | K129: 20 | L129: 8 | M129: 15 | N129: =SUM(I129:M129) -> 83 | O129: II
...

Sheet Sheet4
A5: ОКРУЖНО ТАКМИЧЕЊЕ УЧЕНИКА VI, VII и VII разреда
A6: ОСНОВНИХ ШКОЛА БЕОГРАДА
A7: ИЗ ФИЗИКЕ
A10: Редни | B10: ШИФРА | C10: ИМЕ И ПРЕЗИМЕ | D10: РАЗРЕД | E10: Посебно одељење | F10: ШКОЛА | G10: ОПШТИНА | H10: ПРЕДМЕТНИ | I10: Зад 1 | J10: Зад 2 | K10: Зад 3 | L10: Зад 4 | M10: Зад 5 | N10: Укупно | O10: НАПОМЕНА | P10: БРОЈ УЧИОНИЦЕ | Q10: РАДНО МЕСТО
A11: број | C11: УЧЕНИКА | H11: НАСТАВНИК | N11: бодова
A13: 114 | B13: 6001 | C13: Aндреј Илић | D13: 6 | E13: НЕ | F13: Веселин Маслеша | G13: Вождовац | H13: Љубица Вучић | P13: 9 | Q13: 12
A14: 39 | B14: 6002 | C14: Алекса Ђелмаш | D14: 6 | E14: НЕ | F14: Душко Радовић | G14: Чукарица | H14: Милка Гогић | P14: 18 | Q14: 3
A15: 124 | B15: 6003 | C15: Алекса Лазић | D15: 6 | E15: НЕ | F15: „Никола Тесла“ | G15: Раковица | H15: Весна Манић | P15: 19 | Q15: 11
A16: 93 | B16: 6004 | C16: Алекса Солдо | D16: 6 | E16: НЕ | F16: Надежда Петровић | G16: Нови Београд | H16: Александра Стефановић | P16: 9 | Q16: 10
A17: 188 | B17: 6005 | C17: Александар В. Весић | D17: 6 | E17: НЕ | F17: Доситеј Обрадовић | G17: Чукарица | H17: Зорица Теохаревић | P17: 2 | Q17: 20
A18: 110 | B18: 6006 | C18: Александар Николић | D18: 6 | E18: НЕ | F18: Милош Црњански | G18: Чукарица | H18: Ката Вулетић | P18: 5 | Q18: 12
A19: 179 | B19: 6007 | C19: Алексеј Ристић | D19: 6 | E19: НЕ | F19: Филип Филиповић | G19: Вождовац | H19: Нада Јојић | P19: 13 | Q19: 17
A20: 3 | B20: 6008 | C20: Алексеј Стевановић | D20: 6 | E20: НЕ | F20: Краљ Петар Први | G20: Стари град | H20: Станислав Миловановић | P20: 3 | Q20: 1
A21: 248 | B21: 6009 | C21: Ана Комлен | D21: 6 | E21: НЕ | F21: „Франце Прешерн“ | G21: Раковица | H21: Јелисавета Хрњаковић | P21: 1 | Q21: 27
A22: 87 | B22: 6010 | C22: Ана Марић | D22: 6 | E22: НЕ | F22: Јован Дучић | G22: Нови Београд | H22: Анђа Поповић | P22: 3 | Q22: 10
A23: 106 | B23: 6011 | C23: Ана Станковић | D23: 6 | E23: НЕ | F23: Павле Савић | G23: Звездара | H23: Драгослава Јекић | P23: 1 | Q23: 12
A24: 265 | B24: 6012 | C24: Анастасиа Николић | D24: 6 | E24: НЕ | F24: Исидора Секулић | G24: Савски венац | H24: Игор Димитријевић | P24: 5 | Q24: 29
... A175: 197 | B175: 6163 | C175: Милица Драшковић | D175: 6 | E175: НЕ | F175: Доситеј Обрадовић | G175: Чукарица | H175: Зорица Теохаревић | P175: 13 | Q175: 20
A176: 173 | B176: 6164 | C176: Милош Мандић | D176: 6 | E176: НЕ | F176: Бранко Радичевић | G176: Нови Београд | H176: Зоран Алексић | P176: 6 | Q176: 17 | X176: =13*15 -> 195
A177: 98 | B177: 6165 | C177: Милош Петровић | D177: 6 | E177: НЕ | F177: Драган Лукић | G177: Нови Београд | H177: Јелена Латас | P177: 14 | Q177: 18 | X177: =3*8 -> 24
A178: 261 | B178: 6166 | C178: Милош Радивојевић | D178: 6 | E178: НЕ | F178: Свети Сава | G178: Младеновац | H178: Ксенија Кезић Кањевац | P178: 18 | Q178: 27 | X178: =2*10 -> 20
A179: 234 | B179: 6167 | C179: Милош Стевановић | D179: 6 | E179: НЕ | F179: „Франце Прешерн“ | G179: Раковица | H179: Јелисавета Хрњаковић | P179: 1 | Q179: 25 | X179: 12
A180: 274 | B180: 6168 | C180: Милутин Камаљевић | D180: 6 | E180: НЕ | F180: Ђура Даничић | G180: Вождовац | H180: Јелена Ристановић | P180: 17 | Q180: 29 | X180: 17
A181: 50 | B181: 6169 | C181: Милутин Пашић | D181: 6 | E181: НЕ | F181: ОШ „Јован Поповић“ | G181: Палилула | H181: Снежана Косачевић | P181: 8 | Q181: 5 | X181: 9
A182: 126 | B182: 6170 | C182: Миона Мисовић | D182: 6 | E182: НЕ | F182: „Бранко Ћопић“ | G182: Раковица | H182: Адриан Варга | P182: 21 | Q182: 11
A183: 80 | B183: 6171 | C183: Михаило Алексић | D183: 6 | E183: НЕ | F183: Борислав Пекић | G183: Нови Београд | H183: Братислав Јовановић | P183: 17 | Q183: 8
A184: 204 | B184: 6172 | C184: Михајло Кукић | D184: 6 | E184: НЕ | F184: Браћа Барух | G184: Стари град | H184: Милица Мирковић | P184: 1 | Q184: 22
A185: 136 | B185: 6173 | C185: Михајло Стошић | D185: 6 | E185: НЕ | F185: Браће Јерковић | G185: Чукарица | H185: Саша Пеневски | P185: 10 | Q185: 26
A186: 254 | B186: 6174 | C186: Нађа Босанац | D186: 6 | E186: НЕ | F186: Павле Савић | G186: Звездара | H186: Драгослава Јекић | P186: 8 | Q186: 27
A187: 247 | B187: 6175 | C187: Нађа Вукотић | D187: 6 | E187: НЕ | F187: Змај Јова Јовановић | G187: Вождовац | H187: Жељко Урошевић | P187: 18 | Q187: 25
A188: 127 | B188: 6176 | C188: Нађа Митровић | D188: 6 | E188: НЕ | F188: „Бранко Ћопић“ | G188: Раковица | H188: Југослав Секулић | P188: 1 | Q188: 13
A189: 15 | B189: 6177 | C189: Нађа Петровић | D189: 6 | E189: НЕ | F189: Драган Лукић | G189: Нови Београд | H189: Јелена Латас | P189: 15 | Q189: 1
A190: 92 | B190: 6178 | C190: Нађа Ракић | D190: 6 | E190: НЕ | F190: Марко Орешковић | G190: Нови Београд | H190: Игор Димитријевић | P190: 8 | Q190: 10
A191: 176 | B191: 6179 | C191: Настасија Јовановић | D191: 6 | E191: НЕ | F191: Мајка Југовића | G191: Земун | H191: Марија Паројчић | P191: 9 | Q191: 17
A192: 219 | B192: 6180 | C192: Наталија Живковић | D192: 6 | E192: НЕ | F192: Јелена Ћетковић | G192: Звездара | H192: Весна Тодоровић Ристић | P192: 1 | Q192: 24
A193: 171 | B193: 6181 | C193: Невена Стефановић | D193: 6 | E193: НЕ | F193: Младост | G193: Нови Београд | H193: Снежана Ивановић | P193: 3 | Q193: 17
... A270: 233 | B270: 6258 | C270: Страхиња Никодијевић | D270: 6 | E270: НЕ | F270: Ђура Даничић | G270: Вождовац | H270: Јелена Ристановић | P270: 21 | Q270: 24
A271: 201 | B271: 6259 | C271: Тадија Плећаш | D271: 6 | E271: НЕ | F271: Милош Црњански | G271: Чукарица | H271: Ката Вулетић | P271: 18 | Q271: 20 | U271: 8 | V271: 21 | W271: =U271*V271 -> 168
A272: 246 | B272: 6260 | C272: Тамара Арсовић | D272: 6 | E272: НЕ | F272: Доситеј Обрадовић | G272: Чукарица | H272: Зорица Теохаревић | P272: 17 | Q272: 25 | U272: 2 | V272: 18 | W272: =U272*V272 -> 36
A273: 85 | B273: 6261 | C273: Тамара Стошић | D273: 6 | E273: НЕ | F273: Душко Радовић | G273: Нови Београд | H273: Маја Мутић | P273: 1 | Q273: 10 | U273: 2 | V273: 16 | W273: =U273*V273 -> 32
...
